BEGIN:VCALENDAR
VERSION:2.0
PRODID:-//Jaap de Kok - ECPv6.2.8.1//NONSGML v1.0//EN
CALSCALE:GREGORIAN
METHOD:PUBLISH
X-ORIGINAL-URL:https://www.jaapdekok.nl
X-WR-CALDESC:Evenementen voor Jaap de Kok
REFRESH-INTERVAL;VALUE=DURATION:PT1H
X-Robots-Tag:noindex
X-PUBLISHED-TTL:PT1H
BEGIN:VTIMEZONE
TZID:Europe/Amsterdam
BEGIN:DAYLIGHT
TZOFFSETFROM:+0100
TZOFFSETTO:+0200
TZNAME:CEST
DTSTART:20210328T010000
END:DAYLIGHT
BEGIN:STANDARD
TZOFFSETFROM:+0200
TZOFFSETTO:+0100
TZNAME:CET
DTSTART:20211031T010000
END:STANDARD
END:VTIMEZONE
BEGIN:VEVENT
DTSTART;TZID=Europe/Amsterdam:20211113T160000
DTEND;TZID=Europe/Amsterdam:20211113T170000
DTSTAMP:20260424T014817
CREATED:20210315T103231Z
LAST-MODIFIED:20210315T103253Z
UID:14536-1636819200-1636822800@www.jaapdekok.nl
SUMMARY:Oude Kerk Bennekom - Orgel en Zang
DESCRIPTION:Vanmiddag geef ik samen met mijn voormalig-orgeldocent Theo Jellema een concert in de Oude Kerk te Bennekom. Theo zal de toetsen van het prachtige kabinetorgel beroeren en ik zing.
URL:https://www.jaapdekok.nl/evenement/oude-kerk-bennekom-orgel-en-zang/
LOCATION:Oude Kerk Bennekom\, Dorpstraat 45\, Bennekom\, Gelderland\, 6721JJ\, Nederland
CATEGORIES:Bariton,Zang
END:VEVENT
END:VCALENDAR