BEGIN:VCALENDAR
VERSION:2.0
PRODID:-//Jaap de Kok - ECPv6.2.8.1//NONSGML v1.0//EN
CALSCALE:GREGORIAN
METHOD:PUBLISH
X-ORIGINAL-URL:https://www.jaapdekok.nl
X-WR-CALDESC:Evenementen voor Jaap de Kok
REFRESH-INTERVAL;VALUE=DURATION:PT1H
X-Robots-Tag:noindex
X-PUBLISHED-TTL:PT1H
BEGIN:VTIMEZONE
TZID:Europe/Amsterdam
BEGIN:DAYLIGHT
TZOFFSETFROM:+0100
TZOFFSETTO:+0200
TZNAME:CEST
DTSTART:20220327T010000
END:DAYLIGHT
BEGIN:STANDARD
TZOFFSETFROM:+0200
TZOFFSETTO:+0100
TZNAME:CET
DTSTART:20221030T010000
END:STANDARD
END:VTIMEZONE
BEGIN:VEVENT
DTSTART;TZID=Europe/Amsterdam:20220304T193000
DTEND;TZID=Europe/Amsterdam:20220304T203000
DTSTAMP:20260423T185143
CREATED:20220202T212557Z
LAST-MODIFIED:20220217T164751Z
UID:14669-1646422200-1646425800@www.jaapdekok.nl
SUMMARY:Eindexamen Koordirectie: Requiem van Duruflé
DESCRIPTION:4 maart is het dan eindelijk zo ver; mijn eindexamen staat op het programma. Ik avond waarop prachtige muziek op het programma staat die ik hopelijk met heel veel mensen mag delen. Iedereen van harte uitgenodigd!\nAan de avond leveren het Agricola Consort\, het Asser Kamerkoor Arpeggio en een samengesteld kamerkoor met hoofdzakelijk Conservatoriumstudenten en een kamerorkest haar medewerking. \nHet beloofd een prachtige avond te worden met muziek van Howells en Elgar en tot slot zal het meesterwerk van M. Duruflé klinken: Requiem op. 9
URL:https://www.jaapdekok.nl/evenement/eindexamen-koordirectie-requiem-van-durufle/
LOCATION:Nieuwe Kerk Groningen\, Nieuwe kerkhof 1\, Groningen\, Groningen\, 9712PT\, Nederland
CATEGORIES:Dirigent
ATTACH;FMTTYPE=image/jpeg:https://www.jaapdekok.nl/wp-content/uploads/2019/02/Agricola-consort-23-2.jpg
END:VEVENT
END:VCALENDAR