BEGIN:VCALENDAR
VERSION:2.0
PRODID:-//Jaap de Kok - ECPv6.2.8.1//NONSGML v1.0//EN
CALSCALE:GREGORIAN
METHOD:PUBLISH
X-ORIGINAL-URL:https://www.jaapdekok.nl
X-WR-CALDESC:Evenementen voor Jaap de Kok
REFRESH-INTERVAL;VALUE=DURATION:PT1H
X-Robots-Tag:noindex
X-PUBLISHED-TTL:PT1H
BEGIN:VTIMEZONE
TZID:Europe/Amsterdam
BEGIN:DAYLIGHT
TZOFFSETFROM:+0100
TZOFFSETTO:+0200
TZNAME:CEST
DTSTART:20220327T010000
END:DAYLIGHT
BEGIN:STANDARD
TZOFFSETFROM:+0200
TZOFFSETTO:+0100
TZNAME:CET
DTSTART:20221030T010000
END:STANDARD
END:VTIMEZONE
BEGIN:VEVENT
DTSTART;TZID=Europe/Amsterdam:20220504T210000
DTEND;TZID=Europe/Amsterdam:20220504T220000
DTSTAMP:20260423T161037
CREATED:20220422T085130Z
LAST-MODIFIED:20220422T085130Z
UID:14697-1651698000-1651701600@www.jaapdekok.nl
SUMMARY:Fauré requiem - Appingedam
DESCRIPTION:Na de Dodenherdenking bij het monument in de Wijkstraat in Appingedam kan men in de Nicolaikerk luisteren naar het Requiem van Fauré\, uitgevoerd door het Toonkunstkoor Delfzijl met medewerking van het Symphonie-orkest Suonare d’Amatori\, onder leiding van Vincent Hensen en met solisten Alina Rozeboom\, sopraan en Jaap de Kok bariton. De toegang is gratis. Van harte welkom!
URL:https://www.jaapdekok.nl/evenement/faure-requiem-appingedam/
LOCATION:Nicolaïkerk Appingedam\, Wijkstraat 32\, Appingedam\, Groningen\, 9901AJ\, Nederland
CATEGORIES:Bariton,Zang
ATTACH;FMTTYPE=image/jpeg:https://www.jaapdekok.nl/wp-content/uploads/2022/04/F042730B-C4BF-498D-95D6-AA7A13550EEC.jpeg
END:VEVENT
END:VCALENDAR