BEGIN:VCALENDAR
VERSION:2.0
PRODID:-//Jaap de Kok - ECPv6.2.8.1//NONSGML v1.0//EN
CALSCALE:GREGORIAN
METHOD:PUBLISH
X-ORIGINAL-URL:https://www.jaapdekok.nl
X-WR-CALDESC:Evenementen voor Jaap de Kok
REFRESH-INTERVAL;VALUE=DURATION:PT1H
X-Robots-Tag:noindex
X-PUBLISHED-TTL:PT1H
BEGIN:VTIMEZONE
TZID:Europe/Amsterdam
BEGIN:DAYLIGHT
TZOFFSETFROM:+0100
TZOFFSETTO:+0200
TZNAME:CEST
DTSTART:20220327T010000
END:DAYLIGHT
BEGIN:STANDARD
TZOFFSETFROM:+0200
TZOFFSETTO:+0100
TZNAME:CET
DTSTART:20221030T010000
END:STANDARD
END:VTIMEZONE
BEGIN:VEVENT
DTSTART;TZID=Europe/Amsterdam:20220619T190000
DTEND;TZID=Europe/Amsterdam:20220619T200000
DTSTAMP:20260423T143234
CREATED:20220601T220913Z
LAST-MODIFIED:20220601T221039Z
UID:14747-1655665200-1655668800@www.jaapdekok.nl
SUMMARY:Grote of St. Bavo te Haarlem - Evensong
DESCRIPTION:Vanavond val ik in voor Rintje te Wies als dirigent van het Roderjongenskoor. We zingen de evensong in de prachtige St. Bavo te Haarlem! Op het programma muziek van o.a. Reading\, Andriessen\, Goss en Brewer
URL:https://www.jaapdekok.nl/evenement/grote-of-st-bavo-te-haarlem-evensong/
LOCATION:Groningen
CATEGORIES:Dirigent
ATTACH;FMTTYPE=image/jpeg:https://www.jaapdekok.nl/wp-content/uploads/2017/09/36586488636_b7cd1c1c9a_o.jpg
END:VEVENT
END:VCALENDAR