BEGIN:VCALENDAR
VERSION:2.0
PRODID:-//Jaap de Kok - ECPv6.2.8.1//NONSGML v1.0//EN
CALSCALE:GREGORIAN
METHOD:PUBLISH
X-ORIGINAL-URL:https://www.jaapdekok.nl
X-WR-CALDESC:Evenementen voor Jaap de Kok
REFRESH-INTERVAL;VALUE=DURATION:PT1H
X-Robots-Tag:noindex
X-PUBLISHED-TTL:PT1H
BEGIN:VTIMEZONE
TZID:Europe/Amsterdam
BEGIN:DAYLIGHT
TZOFFSETFROM:+0100
TZOFFSETTO:+0200
TZNAME:CEST
DTSTART:20220327T010000
END:DAYLIGHT
BEGIN:STANDARD
TZOFFSETFROM:+0200
TZOFFSETTO:+0100
TZNAME:CET
DTSTART:20221030T010000
END:STANDARD
END:VTIMEZONE
BEGIN:VEVENT
DTSTART;TZID=Europe/Amsterdam:20221119T160000
DTEND;TZID=Europe/Amsterdam:20221119T210000
DTSTAMP:20260423T074622
CREATED:20220423T214550Z
LAST-MODIFIED:20220720T223136Z
UID:14712-1668873600-1668891600@www.jaapdekok.nl
SUMMARY:Kamerkoor Arpeggio
DESCRIPTION:Najaarsconcert wordt gehouden om 16:00 en om 20:00
URL:https://www.jaapdekok.nl/evenement/kamerkoor-arpeggio/
LOCATION:Magnuskerk Anloo\, Kerkbrink 1\, Anloo\, Drenthe\, 9467PH\, Nederland
CATEGORIES:Concert,Dirigent
ATTACH;FMTTYPE=image/jpeg:https://www.jaapdekok.nl/wp-content/uploads/2022/04/6C0C1489-25E3-4377-AB0A-6A407CF70E27.jpeg
END:VEVENT
END:VCALENDAR