BEGIN:VCALENDAR
VERSION:2.0
PRODID:-//Jaap de Kok - ECPv6.2.8.1//NONSGML v1.0//EN
CALSCALE:GREGORIAN
METHOD:PUBLISH
X-ORIGINAL-URL:https://www.jaapdekok.nl
X-WR-CALDESC:Evenementen voor Jaap de Kok
REFRESH-INTERVAL;VALUE=DURATION:PT1H
X-Robots-Tag:noindex
X-PUBLISHED-TTL:PT1H
BEGIN:VTIMEZONE
TZID:Europe/Amsterdam
BEGIN:DAYLIGHT
TZOFFSETFROM:+0100
TZOFFSETTO:+0200
TZNAME:CEST
DTSTART:20220327T010000
END:DAYLIGHT
BEGIN:STANDARD
TZOFFSETFROM:+0200
TZOFFSETTO:+0100
TZNAME:CET
DTSTART:20221030T010000
END:STANDARD
END:VTIMEZONE
BEGIN:VEVENT
DTSTART;TZID=Europe/Amsterdam:20221210T200000
DTEND;TZID=Europe/Amsterdam:20221210T213000
DTSTAMP:20260423T063448
CREATED:20220624T133058Z
LAST-MODIFIED:20220624T133058Z
UID:14765-1670702400-1670707800@www.jaapdekok.nl
SUMMARY:A festival of Lessons & Carols
DESCRIPTION:Met Asser Kamerkoor Arpeggio in ‘het lichtpunt’ te Assen.
URL:https://www.jaapdekok.nl/evenement/a-festival-of-lessons-carols/
LOCATION:Groningen
CATEGORIES:Dirigent
ATTACH;FMTTYPE=image/jpeg:https://www.jaapdekok.nl/wp-content/uploads/2017/09/36586488636_b7cd1c1c9a_o.jpg
END:VEVENT
END:VCALENDAR