BEGIN:VCALENDAR
VERSION:2.0
PRODID:-//Jaap de Kok - ECPv6.2.8.1//NONSGML v1.0//EN
CALSCALE:GREGORIAN
METHOD:PUBLISH
X-WR-CALNAME:Jaap de Kok
X-ORIGINAL-URL:https://www.jaapdekok.nl
X-WR-CALDESC:Evenementen voor Jaap de Kok
REFRESH-INTERVAL;VALUE=DURATION:PT1H
X-Robots-Tag:noindex
X-PUBLISHED-TTL:PT1H
BEGIN:VTIMEZONE
TZID:Europe/Amsterdam
BEGIN:DAYLIGHT
TZOFFSETFROM:+0100
TZOFFSETTO:+0200
TZNAME:CEST
DTSTART:20220327T010000
END:DAYLIGHT
BEGIN:STANDARD
TZOFFSETFROM:+0200
TZOFFSETTO:+0100
TZNAME:CET
DTSTART:20221030T010000
END:STANDARD
END:VTIMEZONE
BEGIN:VEVENT
DTSTART;TZID=Europe/Amsterdam:20221211T150000
DTEND;TZID=Europe/Amsterdam:20221211T160000
DTSTAMP:20260423T063101
CREATED:20220624T133325Z
LAST-MODIFIED:20220624T133347Z
UID:14767-1670770800-1670774400@www.jaapdekok.nl
SUMMARY:Evensong Alphen a/d Rijn Roderjongenskoor
DESCRIPTION:
URL:https://www.jaapdekok.nl/evenement/evensong-alphen-a-d-rijn-roderjongenskoor/
LOCATION:Groningen
CATEGORIES:Dirigent
ATTACH;FMTTYPE=image/jpeg:https://www.jaapdekok.nl/wp-content/uploads/2022/06/DE9FBFCC-55B2-48CE-983E-688FD259B467.jpeg
END:VEVENT
END:VCALENDAR