BEGIN:VCALENDAR
VERSION:2.0
PRODID:-//Jaap de Kok - ECPv6.2.8.1//NONSGML v1.0//EN
CALSCALE:GREGORIAN
METHOD:PUBLISH
X-WR-CALNAME:Jaap de Kok
X-ORIGINAL-URL:https://www.jaapdekok.nl
X-WR-CALDESC:Evenementen voor Jaap de Kok
REFRESH-INTERVAL;VALUE=DURATION:PT1H
X-Robots-Tag:noindex
X-PUBLISHED-TTL:PT1H
BEGIN:VTIMEZONE
TZID:Europe/Amsterdam
BEGIN:DAYLIGHT
TZOFFSETFROM:+0100
TZOFFSETTO:+0200
TZNAME:CEST
DTSTART:20220327T010000
END:DAYLIGHT
BEGIN:STANDARD
TZOFFSETFROM:+0200
TZOFFSETTO:+0100
TZNAME:CET
DTSTART:20221030T010000
END:STANDARD
END:VTIMEZONE
BEGIN:VEVENT
DTSTART;TZID=Europe/Amsterdam:20221218T190000
DTEND;TZID=Europe/Amsterdam:20221218T200000
DTSTAMP:20260423T063435
CREATED:20220423T214805Z
LAST-MODIFIED:20220624T134035Z
UID:14716-1671390000-1671393600@www.jaapdekok.nl
SUMMARY:A festival of Lessons & Carols
DESCRIPTION:Vanavond vindt a festival of Lessons & Carols plaats in de Martinikerk te Groningen. Het Agricola Consort zal als koor medewerking verlenen aan de liturgie.
URL:https://www.jaapdekok.nl/evenement/lessons-and-carols/
LOCATION:Martinikerk Groningen\, Martinikerkhof 3\, Groningen\, Groningen\, 9712 JG\, Nederland
CATEGORIES:Dirigent
ATTACH;FMTTYPE=image/jpeg:https://www.jaapdekok.nl/wp-content/uploads/2020/12/421A8074.jpg
END:VEVENT
END:VCALENDAR