BEGIN:VCALENDAR
VERSION:2.0
PRODID:-//Jaap de Kok - ECPv6.2.8.1//NONSGML v1.0//EN
CALSCALE:GREGORIAN
METHOD:PUBLISH
X-ORIGINAL-URL:https://www.jaapdekok.nl
X-WR-CALDESC:Evenementen voor Jaap de Kok
REFRESH-INTERVAL;VALUE=DURATION:PT1H
X-Robots-Tag:noindex
X-PUBLISHED-TTL:PT1H
BEGIN:VTIMEZONE
TZID:Europe/Amsterdam
BEGIN:DAYLIGHT
TZOFFSETFROM:+0100
TZOFFSETTO:+0200
TZNAME:CEST
DTSTART:20230326T010000
END:DAYLIGHT
BEGIN:STANDARD
TZOFFSETFROM:+0200
TZOFFSETTO:+0100
TZNAME:CET
DTSTART:20231029T010000
END:STANDARD
END:VTIMEZONE
BEGIN:VEVENT
DTSTART;TZID=Europe/Amsterdam:20231216T193000
DTEND;TZID=Europe/Amsterdam:20231216T210000
DTSTAMP:20260422T133527
CREATED:20231120T153145Z
LAST-MODIFIED:20231121T084707Z
UID:14863-1702755000-1702760400@www.jaapdekok.nl
SUMMARY:A Festival of Lessons and Carols - Utrecht
DESCRIPTION:Een unieke samenwerking tussen het Agricola Consort uit Groningen en Vocaal ensemble Sola Musica uit Utrecht.
URL:https://www.jaapdekok.nl/evenement/a-festival-of-lessons-and-carols-utrecht/
LOCATION:Willibrordkerk Utrecht\, Minrebroederstraat 21\, Utrecht\, Utrecht\, 3512 GS\, Nederland
CATEGORIES:Concert,Dirigent
ATTACH;FMTTYPE=image/jpeg:https://www.jaapdekok.nl/wp-content/uploads/2023/11/IMG_3549.jpeg
END:VEVENT
END:VCALENDAR