BEGIN:VCALENDAR
VERSION:2.0
PRODID:-//Jaap de Kok - ECPv6.2.8.1//NONSGML v1.0//EN
CALSCALE:GREGORIAN
METHOD:PUBLISH
X-ORIGINAL-URL:https://www.jaapdekok.nl
X-WR-CALDESC:Evenementen voor Jaap de Kok
REFRESH-INTERVAL;VALUE=DURATION:PT1H
X-Robots-Tag:noindex
X-PUBLISHED-TTL:PT1H
BEGIN:VTIMEZONE
TZID:Europe/Amsterdam
BEGIN:DAYLIGHT
TZOFFSETFROM:+0100
TZOFFSETTO:+0200
TZNAME:CEST
DTSTART:20230326T010000
END:DAYLIGHT
BEGIN:STANDARD
TZOFFSETFROM:+0200
TZOFFSETTO:+0100
TZNAME:CET
DTSTART:20231029T010000
END:STANDARD
END:VTIMEZONE
BEGIN:VEVENT
DTSTART;TZID=Europe/Amsterdam:20231223T193000
DTEND;TZID=Europe/Amsterdam:20231223T203000
DTSTAMP:20260422T133527
CREATED:20231120T162151Z
LAST-MODIFIED:20231120T162151Z
UID:14870-1703359800-1703363400@www.jaapdekok.nl
SUMMARY:A Festival of Lessons and Carols
DESCRIPTION:Het Roder Jongenskoor zingt tijdens het Festival of Lessons and carols in het Universitair Medisch Centrum Groningen voor haar personeel en patiënten.
URL:https://www.jaapdekok.nl/evenement/a-festival-of-lessons-and-carols-2/
LOCATION:UMCG Groningen\, Hanzeplein 1\, Groningen\, 9713 GZ\, Nederland
CATEGORIES:Concert,Dirigent
ATTACH;FMTTYPE=image/jpeg:https://www.jaapdekok.nl/wp-content/uploads/2023/11/IMG_2368.jpeg
END:VEVENT
END:VCALENDAR