BEGIN:VCALENDAR
VERSION:2.0
PRODID:-//Jaap de Kok - ECPv6.2.8.1//NONSGML v1.0//EN
CALSCALE:GREGORIAN
METHOD:PUBLISH
X-WR-CALNAME:Jaap de Kok
X-ORIGINAL-URL:https://www.jaapdekok.nl
X-WR-CALDESC:Evenementen voor Jaap de Kok
REFRESH-INTERVAL;VALUE=DURATION:PT1H
X-Robots-Tag:noindex
X-PUBLISHED-TTL:PT1H
BEGIN:VTIMEZONE
TZID:Europe/Amsterdam
BEGIN:DAYLIGHT
TZOFFSETFROM:+0100
TZOFFSETTO:+0200
TZNAME:CEST
DTSTART:20240331T010000
END:DAYLIGHT
BEGIN:STANDARD
TZOFFSETFROM:+0200
TZOFFSETTO:+0100
TZNAME:CET
DTSTART:20241027T010000
END:STANDARD
END:VTIMEZONE
BEGIN:VEVENT
DTSTART;TZID=Europe/Amsterdam:20240503T200000
DTEND;TZID=Europe/Amsterdam:20240503T210000
DTSTAMP:20260420T032737
CREATED:20240101T174050Z
LAST-MODIFIED:20240101T174110Z
UID:14944-1714766400-1714770000@www.jaapdekok.nl
SUMMARY:Requiem van G. Fauré
DESCRIPTION:Solist bij Requiem van G. Fauré uitgevoerd door Kamerkoor Tiraña o.l.v. Tymen-Jan Bronda. \n-locatie volgt-
URL:https://www.jaapdekok.nl/evenement/faure-requiem/
LOCATION:Groningen
ATTACH;FMTTYPE=image/jpeg:https://www.jaapdekok.nl/wp-content/uploads/2021/12/A093778A-8A1D-474D-81AC-9ED8C5BBA299.jpeg
END:VEVENT
END:VCALENDAR