BEGIN:VCALENDAR
VERSION:2.0
PRODID:-//Jaap de Kok - ECPv6.2.8.1//NONSGML v1.0//EN
CALSCALE:GREGORIAN
METHOD:PUBLISH
X-WR-CALNAME:Jaap de Kok
X-ORIGINAL-URL:https://www.jaapdekok.nl
X-WR-CALDESC:Evenementen voor Jaap de Kok
REFRESH-INTERVAL;VALUE=DURATION:PT1H
X-Robots-Tag:noindex
X-PUBLISHED-TTL:PT1H
BEGIN:VTIMEZONE
TZID:Europe/Amsterdam
BEGIN:DAYLIGHT
TZOFFSETFROM:+0100
TZOFFSETTO:+0200
TZNAME:CEST
DTSTART:20240331T010000
END:DAYLIGHT
BEGIN:STANDARD
TZOFFSETFROM:+0200
TZOFFSETTO:+0100
TZNAME:CET
DTSTART:20241027T010000
END:STANDARD
END:VTIMEZONE
BEGIN:VEVENT
DTSTART;TZID=Europe/Amsterdam:20240526T160000
DTEND;TZID=Europe/Amsterdam:20240526T170000
DTSTAMP:20260420T015905
CREATED:20240101T205607Z
LAST-MODIFIED:20240101T205607Z
UID:14954-1716739200-1716742800@www.jaapdekok.nl
SUMMARY:Evensong Adventskerk Assen
DESCRIPTION:m.m.v. het Agricola Consort
URL:https://www.jaapdekok.nl/evenement/evensong-adventskerk-assen/
LOCATION:Adventskerk Assen\, Lindelaan 49\, Assen\, Drenthe\, 9404KR\, Nederland
ATTACH;FMTTYPE=image/jpeg:https://www.jaapdekok.nl/wp-content/uploads/2022/06/4D3FAEED-07A7-4F41-935F-5D04E4EEB5F3.jpeg
END:VEVENT
END:VCALENDAR