BEGIN:VCALENDAR
VERSION:2.0
PRODID:-//Jaap de Kok - ECPv6.2.8.1//NONSGML v1.0//EN
CALSCALE:GREGORIAN
METHOD:PUBLISH
X-WR-CALNAME:Jaap de Kok
X-ORIGINAL-URL:https://www.jaapdekok.nl
X-WR-CALDESC:Evenementen voor Jaap de Kok
REFRESH-INTERVAL;VALUE=DURATION:PT1H
X-Robots-Tag:noindex
X-PUBLISHED-TTL:PT1H
BEGIN:VTIMEZONE
TZID:Europe/Amsterdam
BEGIN:DAYLIGHT
TZOFFSETFROM:+0100
TZOFFSETTO:+0200
TZNAME:CEST
DTSTART:20240331T010000
END:DAYLIGHT
BEGIN:STANDARD
TZOFFSETFROM:+0200
TZOFFSETTO:+0100
TZNAME:CET
DTSTART:20241027T010000
END:STANDARD
END:VTIMEZONE
BEGIN:VEVENT
DTSTART;TZID=Europe/Amsterdam:20240602T190000
DTEND;TZID=Europe/Amsterdam:20240602T200000
DTSTAMP:20260420T015905
CREATED:20240511T075100Z
LAST-MODIFIED:20240511T075100Z
UID:14996-1717354800-1717358400@www.jaapdekok.nl
SUMMARY:Cantatedienst Leeuwarden Roder Jongenskoor
DESCRIPTION:Thy word is a lantern  – H. Purcell \nI surely have built thee a house –  W. Boyce \n 
URL:https://www.jaapdekok.nl/evenement/cantatedienst-leeuwarden-roder-jongenskoor/
LOCATION:Grote Kerk Leeuwarden\, Jacobijnerkerkhof 95\, Leeuwarden\, Friesland\, 8911EN\, Nederland
ATTACH;FMTTYPE=image/jpeg:https://www.jaapdekok.nl/wp-content/uploads/2023/11/IMG_2372.jpeg
END:VEVENT
END:VCALENDAR