BEGIN:VCALENDAR
VERSION:2.0
PRODID:-//Jaap de Kok - ECPv6.2.8.1//NONSGML v1.0//EN
CALSCALE:GREGORIAN
METHOD:PUBLISH
X-WR-CALNAME:Jaap de Kok
X-ORIGINAL-URL:https://www.jaapdekok.nl
X-WR-CALDESC:Evenementen voor Jaap de Kok
REFRESH-INTERVAL;VALUE=DURATION:PT1H
X-Robots-Tag:noindex
X-PUBLISHED-TTL:PT1H
BEGIN:VTIMEZONE
TZID:Europe/Amsterdam
BEGIN:DAYLIGHT
TZOFFSETFROM:+0100
TZOFFSETTO:+0200
TZNAME:CEST
DTSTART:20240331T010000
END:DAYLIGHT
BEGIN:STANDARD
TZOFFSETFROM:+0200
TZOFFSETTO:+0100
TZNAME:CET
DTSTART:20241027T010000
END:STANDARD
END:VTIMEZONE
BEGIN:VEVENT
DTSTART;TZID=Europe/Amsterdam:20241213T193000
DTEND;TZID=Europe/Amsterdam:20241213T203000
DTSTAMP:20260419T162731
CREATED:20240101T211115Z
LAST-MODIFIED:20240918T154022Z
UID:14974-1734118200-1734121800@www.jaapdekok.nl
SUMMARY:A Festival of Lessons and Carols
DESCRIPTION:M.m.v. het Roder Jongenskoor\n‘het Anker’ in Uithuizermeeden.
URL:https://www.jaapdekok.nl/evenement/lessons-and-carols-2/
LOCATION:Groningen
ATTACH;FMTTYPE=image/jpeg:https://www.jaapdekok.nl/wp-content/uploads/2024/01/1060113.jpeg
END:VEVENT
END:VCALENDAR