BEGIN:VCALENDAR
VERSION:2.0
PRODID:-//Jaap de Kok - ECPv6.2.8.1//NONSGML v1.0//EN
CALSCALE:GREGORIAN
METHOD:PUBLISH
X-ORIGINAL-URL:https://www.jaapdekok.nl
X-WR-CALDESC:Evenementen voor Jaap de Kok
REFRESH-INTERVAL;VALUE=DURATION:PT1H
X-Robots-Tag:noindex
X-PUBLISHED-TTL:PT1H
BEGIN:VTIMEZONE
TZID:Europe/Amsterdam
BEGIN:DAYLIGHT
TZOFFSETFROM:+0100
TZOFFSETTO:+0200
TZNAME:CEST
DTSTART:20240331T010000
END:DAYLIGHT
BEGIN:STANDARD
TZOFFSETFROM:+0200
TZOFFSETTO:+0100
TZNAME:CET
DTSTART:20241027T010000
END:STANDARD
END:VTIMEZONE
BEGIN:VEVENT
DTSTART;TZID=Europe/Amsterdam:20241218T200000
DTEND;TZID=Europe/Amsterdam:20241218T213000
DTSTAMP:20260419T162806
CREATED:20240124T162510Z
LAST-MODIFIED:20240124T162510Z
UID:14984-1734552000-1734557400@www.jaapdekok.nl
SUMMARY:Kerstconcert Grote kerk Apeldoorn
DESCRIPTION:Bariton solist bij Kerstconcert van mannenkoor uit Heerden.
URL:https://www.jaapdekok.nl/evenement/kerstconcert-grote-kerk-apeldoorn/
LOCATION:Groningen
CATEGORIES:Bariton
ATTACH;FMTTYPE=image/jpeg:https://www.jaapdekok.nl/wp-content/uploads/2023/11/161ae998-9cb8-4f54-afa0-14ca0cf7df74.jpeg
END:VEVENT
END:VCALENDAR