BEGIN:VCALENDAR
VERSION:2.0
PRODID:-//Jaap de Kok - ECPv6.2.8.1//NONSGML v1.0//EN
CALSCALE:GREGORIAN
METHOD:PUBLISH
X-WR-CALNAME:Jaap de Kok
X-ORIGINAL-URL:https://www.jaapdekok.nl
X-WR-CALDESC:Evenementen voor Jaap de Kok
REFRESH-INTERVAL;VALUE=DURATION:PT1H
X-Robots-Tag:noindex
X-PUBLISHED-TTL:PT1H
BEGIN:VTIMEZONE
TZID:UTC
BEGIN:STANDARD
TZOFFSETFROM:+0000
TZOFFSETTO:+0000
TZNAME:UTC
DTSTART:20160101T000000
END:STANDARD
END:VTIMEZONE
BEGIN:VEVENT
DTSTART;TZID=UTC:20180628T130000
DTEND;TZID=UTC:20180628T134500
DTSTAMP:20260419T200134
CREATED:20171231T093406Z
LAST-MODIFIED:20180603T094648Z
UID:13824-1530190800-1530193500@www.jaapdekok.nl
SUMMARY:Concert St. Jan Gouda
DESCRIPTION:Vandaag geef ik een concert op het koororgel (Bach) en hoofdorgel van de St. Jan te Gouda. \n\nSonate VI in d – F. Mendelssohn (1809-1847)\nPastorale op. 19 no. 4 – C. Franck (1822-1890)\nConcerto in a – J.S. Bach (1685-1750)\nIntroduktion und Passacaglia in d – M. Reger (1873-1916)\n\n 
URL:https://www.jaapdekok.nl/evenement/concert-st-jan-gouda/
LOCATION:St. Jan Gouda\, achter de kerk 16\, Gouda\, Zuid-Holland\, 2801 JX\, Nederland
CATEGORIES:Concert,Orgel
ATTACH;FMTTYPE=image/jpeg:https://www.jaapdekok.nl/wp-content/uploads/2017/12/Speeltafel-St.-Jan-Gouda.jpg
END:VEVENT
BEGIN:VEVENT
DTSTART;TZID=UTC:20180623T160000
DTEND;TZID=UTC:20180623T163000
DTSTAMP:20260419T200134
CREATED:20180201T100412Z
LAST-MODIFIED:20180603T092222Z
UID:13846-1529769600-1529771400@www.jaapdekok.nl
SUMMARY:Concert Basiliek den Bosch
DESCRIPTION:1. Sonate VI opus 65 in d klein\n  Felix Mendelssohn (1809 - 1847)\n2. Concert in a klein\n                              I-allegro\n  Johann Sebastian Bach (1685-1750)\n3. Introduction und Passacaglia in d klein\n  Max Reger (1873-1916)
URL:https://www.jaapdekok.nl/evenement/concert-basiliek-den-bosch/
LOCATION:De Sint Jansbasiliek\, Torenstraat 16\, 's-Hertogenbosch\, Noord-Brabant\, 5211 KK\, Nederland
CATEGORIES:Concert,Orgel
ATTACH;FMTTYPE=image/jpeg:https://www.jaapdekok.nl/wp-content/uploads/2018/02/Sint-Jan-Basiliek-den-Bosch.jpg
END:VEVENT
BEGIN:VEVENT
DTSTART;TZID=UTC:20180324T200000
DTEND;TZID=UTC:20180324T210000
DTSTAMP:20260419T200134
CREATED:20171231T092358Z
LAST-MODIFIED:20171231T092358Z
UID:13821-1521921600-1521925200@www.jaapdekok.nl
SUMMARY:Passie Oratorium Hoogkerk
DESCRIPTION:Vanavond voert het CGK Gode zingt Lof te Hoogkerk een paasoratorium uit.
URL:https://www.jaapdekok.nl/evenement/passie-oratorium-hoogkerk/
CATEGORIES:Begeleiding,Orgel
ATTACH;FMTTYPE=image/jpeg:https://www.jaapdekok.nl/wp-content/uploads/2017/12/Interieur_aanzicht_orgel_orgelnummer_2010_-_Hoogkerk_-_20417159_-_RCE.jpg
END:VEVENT
BEGIN:VEVENT
DTSTART;TZID=UTC:20171217T100000
DTEND;TZID=UTC:20171217T110000
DTSTAMP:20260419T200134
CREATED:20170908T075044Z
LAST-MODIFIED:20170908T075044Z
UID:13783-1513504800-1513508400@www.jaapdekok.nl
SUMMARY:C.G.K. Excelsior
DESCRIPTION:Vanmorgen mag ik het C.G.K. Excelsior begeleiden in de adventsdienst in de Kruiskerk te Diever
URL:https://www.jaapdekok.nl/evenement/c-g-k-excelsior-2/
LOCATION:Kruiskerk Diever\, Diever
CATEGORIES:Begeleiding,Orgel
ATTACH;FMTTYPE=image/jpeg:https://www.jaapdekok.nl/wp-content/uploads/2017/04/IMG_20170415_162002.jpg
END:VEVENT
BEGIN:VEVENT
DTSTART;TZID=UTC:20171216T190000
DTEND;TZID=UTC:20171216T210000
DTSTAMP:20260419T200134
CREATED:20171109T213706Z
LAST-MODIFIED:20171109T213706Z
UID:13813-1513450800-1513458000@www.jaapdekok.nl
SUMMARY:Kerstconcert Hoogkerk
DESCRIPTION:Vanavond geeft het christelijk gemengd koor en het mannenkoor uit Hoogkerk een gezamenlijk concert. De koren staan onder leiding van Marijke Beute en Jaring de Braak. Ik mag de koren vanavond begeleiden met orgel.
URL:https://www.jaapdekok.nl/evenement/kerstconcert-hoogkerk/
LOCATION:Buitenplaats Hoogkerk\, Hoendiep 232\, Groningen\, Groningen\, 9745EG\, Nederland
CATEGORIES:Begeleiding,Orgel
END:VEVENT
BEGIN:VEVENT
DTSTART;TZID=UTC:20171119T100000
DTEND;TZID=UTC:20171119T110000
DTSTAMP:20260419T200134
CREATED:20170908T074633Z
LAST-MODIFIED:20170908T074633Z
UID:13781-1511085600-1511089200@www.jaapdekok.nl
SUMMARY:C.G.K. Excelsior
DESCRIPTION:Vanmorgen mag ik Excelsior begeleiden in een dienst in de Duif te Assen.
URL:https://www.jaapdekok.nl/evenement/c-g-k-excelsior/
CATEGORIES:Begeleiding,Orgel,Piano
END:VEVENT
BEGIN:VEVENT
DTSTART;TZID=UTC:20171022T150000
DTEND;TZID=UTC:20171022T160000
DTSTAMP:20260419T200134
CREATED:20170902T072244Z
LAST-MODIFIED:20170902T083521Z
UID:13750-1508684400-1508688000@www.jaapdekok.nl
SUMMARY:Cantatedienst Lutherse kerk Groningen
DESCRIPTION:Vocaal ensemble A Capelli zal de cantatedienst verzorgen in de Lutherse kerk in Groningen. Jaap speelt continuo met een strijkersensemble bij de cantates: Alles was ihr Tut (Buxtehude) en Widerstehe doch der Sünde (Bach)
URL:https://www.jaapdekok.nl/evenement/cantatedienst-lutherse-kerk-groningen/
LOCATION:Lutherse kerk Groningen\, Haddingestraat 23\, Groningen\, Groningen\, 9711 KC\, Nederland
CATEGORIES:Begeleiding,Orgel
ATTACH;FMTTYPE=image/jpeg:https://www.jaapdekok.nl/wp-content/uploads/2017/09/Groningen-Schnitger-orgel-tekening-lutherse-kerk.jpg
END:VEVENT
BEGIN:VEVENT
DTSTART;TZID=UTC:20171015T150000
DTEND;TZID=UTC:20171015T160000
DTSTAMP:20260419T200134
CREATED:20170902T072539Z
LAST-MODIFIED:20170902T083627Z
UID:13754-1508079600-1508083200@www.jaapdekok.nl
SUMMARY:Cantatedienst Oosterwolde
DESCRIPTION:Vocaal ensemble A Capelli zal de cantatedienst verzorgen in Oosterwolde. Jaap speelt continuo met een strijkersensemble bij de cantates: Alles was ihr Tut (Buxtehude) en Widerstehe doch der Sünde (Bach)
URL:https://www.jaapdekok.nl/evenement/cantatedienst-oosterwolde/
CATEGORIES:Begeleiding,Orgel
END:VEVENT
BEGIN:VEVENT
DTSTART;TZID=UTC:20171014T090000
DTEND;TZID=UTC:20171014T160000
DTSTAMP:20260419T200134
CREATED:20170908T075857Z
LAST-MODIFIED:20170908T075857Z
UID:13788-1507971600-1507996800@www.jaapdekok.nl
SUMMARY:S.G.O. orgelconcours
DESCRIPTION:Vandaag vindt het S.G.O. orgelconcours plaats te Appingedam.
URL:https://www.jaapdekok.nl/evenement/s-g-o-orgelconcours/
CATEGORIES:Orgel
ATTACH;FMTTYPE=image/jpeg:https://www.jaapdekok.nl/wp-content/uploads/2017/09/orgel-appingedam.jpg
END:VEVENT
BEGIN:VEVENT
DTSTART;TZID=UTC:20170828T150000
DTEND;TZID=UTC:20170828T154500
DTSTAMP:20260419T200134
CREATED:20170710T121012Z
LAST-MODIFIED:20170902T083724Z
UID:13721-1503932400-1503935100@www.jaapdekok.nl
SUMMARY:Orgelconcert Pancratiuskerk Diever
DESCRIPTION:Jaap zal een orgelconcert geven op het prachtige van Oeckelen orgel te Diever tijdens de zomermarkt.
URL:https://www.jaapdekok.nl/evenement/orgelconcert-pancratiuskerk-diever/
CATEGORIES:Concert,Orgel
ATTACH;FMTTYPE=image/jpeg:https://www.jaapdekok.nl/wp-content/uploads/2016/09/Pancratiuskerk.jpg
END:VEVENT
BEGIN:VEVENT
DTSTART;TZID=UTC:20170821T150000
DTEND;TZID=UTC:20170821T164500
DTSTAMP:20260419T200134
CREATED:20170710T120803Z
LAST-MODIFIED:20170902T083817Z
UID:13719-1503327600-1503333900@www.jaapdekok.nl
SUMMARY:Orgelconcert Kruiskerk Diever
DESCRIPTION:Jaap zal tijdens de zomermarkt een concert geven op het Nijsse-Orgel (2011) te Diever.
URL:https://www.jaapdekok.nl/evenement/orgelconcert-kruiskerk-diever-2/
LOCATION:Kruiskerk Diever\, Diever
CATEGORIES:Concert,Orgel
ATTACH;FMTTYPE=image/jpeg:https://www.jaapdekok.nl/wp-content/uploads/2017/04/IMG_20170415_162002.jpg
END:VEVENT
BEGIN:VEVENT
DTSTART;TZID=UTC:20170813T100000
DTEND;TZID=UTC:20170813T110000
DTSTAMP:20260419T200134
CREATED:20160916T091131Z
LAST-MODIFIED:20160916T091131Z
UID:13343-1502618400-1502622000@www.jaapdekok.nl
SUMMARY:Openluchtdienst Diever
DESCRIPTION:
URL:https://www.jaapdekok.nl/evenement/openluchtdienst-diever/
CATEGORIES:Begeleiding,Orgel,Piano
END:VEVENT
BEGIN:VEVENT
DTSTART;TZID=UTC:20170630T120000
DTEND;TZID=UTC:20170630T123000
DTSTAMP:20260419T200134
CREATED:20170126T124113Z
LAST-MODIFIED:20170126T124113Z
UID:13465-1498824000-1498825800@www.jaapdekok.nl
SUMMARY:Lunchpauzeconcert Martini Groningen
DESCRIPTION:
URL:https://www.jaapdekok.nl/evenement/lunchpauzeconcert-martini-groningen/
LOCATION:Martinikerk Groningen\, Martinikerkhof 3\, Groningen\, Groningen\, 9712 JG\, Nederland
CATEGORIES:Concert,Orgel
END:VEVENT
BEGIN:VEVENT
DTSTART;TZID=UTC:20170602T170000
DTEND;TZID=UTC:20170602T180000
DTSTAMP:20260419T200134
CREATED:20161019T135525Z
LAST-MODIFIED:20161019T140117Z
UID:13400-1496422800-1496426400@www.jaapdekok.nl
SUMMARY:Orgelconcert Dorpskerk Huizum
DESCRIPTION:Het is bekend dat de kerk al in de 16e eeuw een orgel had. Rond 1660 werd het gerepareerd door Willem Meynerts uit Berlikum. In 1727 vindt een vernieuwing plaats door Christian Müller. Het huidige orgel is in 1849 gebouwd door de orgelmakers Van Dam; zij gebruikten daarin een deel van het oude pijpwerk. Dit orgel onderging in de 20e eeuw enige wijzigingen en in 1954-1956. Het orgel is op dit moment net weer gerestaureerd.
URL:https://www.jaapdekok.nl/evenement/orgelconcert-huizum/
LOCATION:Dorpskerk Huizum\, Huizum Dorp 67\, Leeuwarden\, Friesland\, 8934 BS\, Nederland
CATEGORIES:Concert,Orgel
ATTACH;FMTTYPE=image/gif:https://www.jaapdekok.nl/wp-content/uploads/2016/10/huizum-orgelconcert.gif
END:VEVENT
BEGIN:VEVENT
DTSTART;TZID=UTC:20170526T080000
DTEND;TZID=UTC:20170526T170000
DTSTAMP:20260419T200134
CREATED:20170126T125402Z
LAST-MODIFIED:20170126T125402Z
UID:13487-1495785600-1495818000@www.jaapdekok.nl
SUMMARY:Martinikerk Groningen
DESCRIPTION:Trouwdienst begeleiden
URL:https://www.jaapdekok.nl/evenement/martinikerk-groningen/
LOCATION:Martinikerk Groningen\, Martinikerkhof 3\, Groningen\, Groningen\, 9712 JG\, Nederland
CATEGORIES:Begeleiding,Orgel
ATTACH;FMTTYPE=image/jpeg:https://www.jaapdekok.nl/wp-content/uploads/2017/01/Martinikerk-Groningen-orgel.jpg
END:VEVENT
BEGIN:VEVENT
DTSTART;TZID=UTC:20170523T193000
DTEND;TZID=UTC:20170523T203000
DTSTAMP:20260419T200134
CREATED:20170501T181259Z
LAST-MODIFIED:20170501T181259Z
UID:13695-1495567800-1495571400@www.jaapdekok.nl
SUMMARY:CGK Excelsior 'Olden Kinholt'
DESCRIPTION:Vandaag zingt Excelsior in het verzorgingstehuis ‘Olden Kinholt’ te Hoogeveen onder leiding van Doeke van Wieren. Jaap de Kok zal het koor met orgel en piano begeleiden.
URL:https://www.jaapdekok.nl/evenement/cgk-excelsior-olden-kinholt/
LOCATION:Olden Kinholt\, Kemperstraat 2\, Hoogeveen\, Drenthe\, 7901 CB\, Nederland
CATEGORIES:Begeleiding,Orgel,Piano
END:VEVENT
BEGIN:VEVENT
DTSTART;TZID=UTC:20170517T140000
DTEND;TZID=UTC:20170517T143000
DTSTAMP:20260419T200134
CREATED:20170228T091556Z
LAST-MODIFIED:20170515T061312Z
UID:13651-1495029600-1495031400@www.jaapdekok.nl
SUMMARY:Orgelconcert Zeerijp
DESCRIPTION:I.v.m. met het lustrum van een vrouwenvereniging geeft Jaap een concert op het prachtige orgel van Zeerijp voor de leden van de vereniging.
URL:https://www.jaapdekok.nl/evenement/orgelconcert-zeerijp/
CATEGORIES:Concert,Orgel
ATTACH;FMTTYPE=image/jpeg:https://www.jaapdekok.nl/wp-content/uploads/2017/02/orgel-zeerijp.jpg
END:VEVENT
BEGIN:VEVENT
DTSTART;TZID=UTC:20170412T193000
DTEND;TZID=UTC:20170412T201500
DTSTAMP:20260419T200134
CREATED:20170228T091326Z
LAST-MODIFIED:20170329T181736Z
UID:13648-1492025400-1492028100@www.jaapdekok.nl
SUMMARY:Kruis en Kroon\, Wijnjewoude
DESCRIPTION:Vanavond voert CGK ‘Looft den Heer’ in de Gereformeerde kerk te Wijnjewoude de Cantate ”Kruis en Kroon” van Herman de Wolff uit. \nDirigent: Annejaap Soldaat \nOrganist: Jaap de Kok \nSpreekstem: Oeds v/d Mei \n 
URL:https://www.jaapdekok.nl/evenement/kruis-en-kroon-wijnjewoude/
LOCATION:Gereformeerde kerk Wijnjewoude\, Merkebuorren 34\, Wijnjewoude\, Friesland\, 9241 GG \, Nederland
CATEGORIES:Begeleiding,Orgel
ATTACH;FMTTYPE=image/jpeg:https://www.jaapdekok.nl/wp-content/uploads/2017/02/orgel-gereformeerde-kerk-Wijnjewoude-e1490818751544.jpg
END:VEVENT
BEGIN:VEVENT
DTSTART;TZID=UTC:20170411T193000
DTEND;TZID=UTC:20170411T201500
DTSTAMP:20260419T200134
CREATED:20170305T114750Z
LAST-MODIFIED:20170329T182829Z
UID:13654-1491939000-1491941700@www.jaapdekok.nl
SUMMARY:'Kruis en Kroon' Wouterswoude
DESCRIPTION:Vanavond voert CGK ‘Looft den Heer’ in de Gereformeerde kerk te Wouterswoude Cantate ”Kruis en Kroon” van Herman de Wolff uit. \nDirigent: Annejaap Soldaat \nOrganist: Jaap de Kok \nSpreekstem: Oeds v/d Mei
URL:https://www.jaapdekok.nl/evenement/passie-kruis-en-kroon-wouterswoude/
CATEGORIES:Begeleiding,Orgel
ATTACH;FMTTYPE=image/jpeg:https://www.jaapdekok.nl/wp-content/uploads/2017/03/wouterswoude-e1490819285323.jpg
END:VEVENT
BEGIN:VEVENT
DTSTART;TZID=UTC:20170409T191500
DTEND;TZID=UTC:20170409T201500
DTSTAMP:20260419T200134
CREATED:20170126T124803Z
LAST-MODIFIED:20170328T102644Z
UID:13479-1491765300-1491768900@www.jaapdekok.nl
SUMMARY:CGK 'Excelsior' Diever
DESCRIPTION:Avonddienst begeleiden waarin CGK Excelsior haar medewerking verleent.
URL:https://www.jaapdekok.nl/evenement/kruiskerk-diever-26/
LOCATION:Kruiskerk Diever\, Diever
CATEGORIES:Begeleiding,Orgel
ATTACH;FMTTYPE=image/jpeg:https://www.jaapdekok.nl/wp-content/uploads/2016/08/nijsse-orgel-diever.jpg
END:VEVENT
BEGIN:VEVENT
DTSTART;TZID=UTC:20170126T100000
DTEND;TZID=UTC:20170126T103000
DTSTAMP:20260419T200134
CREATED:20170107T094403Z
LAST-MODIFIED:20170107T094459Z
UID:13443-1485424800-1485426600@www.jaapdekok.nl
SUMMARY:Semestertoets Martinikerk
DESCRIPTION:Om 10.00 uur vindt de semestertoets plaats van Jaap in de martinikerk te Groningen. \nHij zal voor de commissie voorspelen en aan de hand van zijn spel een cijfer krijgen. \nDe volgende stukken zal hij spelen: \n\nPavana Lacrimae – J.P. Sweelinck\nTriosonate es-dur – J.S. Bach\nPastorale – C. Franck
URL:https://www.jaapdekok.nl/evenement/semestertoets-martinikerk/
CATEGORIES:Orgel
ATTACH;FMTTYPE=image/jpeg:https://www.jaapdekok.nl/wp-content/uploads/2015/11/Orgel-e1536345011577.jpg
END:VEVENT
BEGIN:VEVENT
DTSTART;TZID=UTC:20161214T193000
DTEND;TZID=UTC:20161214T203000
DTSTAMP:20260419T200134
CREATED:20161206T095453Z
LAST-MODIFIED:20161210T111843Z
UID:13428-1481743800-1481747400@www.jaapdekok.nl
SUMMARY:Orgelconcert Magnaliakerk Groningen
DESCRIPTION:Samen met alle orgelstudenten van het Prins Claus Conservatorium geven wij vanavond een concert op het Ahrend-orgel in de Magnaliakerk te Groningen.
URL:https://www.jaapdekok.nl/evenement/orgelconcert-magnaliakerk-groningen/
LOCATION:Magnalia Dei kerk Groningen\, Landsteinerlaan 2\, Groningen\, Groningen\, 9728 KM \, Nederland
CATEGORIES:Concert,Orgel
ATTACH;FMTTYPE=image/jpeg:https://www.jaapdekok.nl/wp-content/uploads/2016/12/Orgel-Magnalia-Dei-kerk-Groningen.jpg
END:VEVENT
BEGIN:VEVENT
DTSTART;TZID=UTC:20161211T100000
DTEND;TZID=UTC:20161211T110000
DTSTAMP:20260419T200134
CREATED:20161206T094024Z
LAST-MODIFIED:20161206T094024Z
UID:13423-1481450400-1481454000@www.jaapdekok.nl
SUMMARY:Cantatedienst dorpskerk Vledder
DESCRIPTION:
URL:https://www.jaapdekok.nl/evenement/cantatedienst-dorpskerk-vledder/
LOCATION:Dorpskerk Vledder\, Lesturgeonplein 4\, Vledder\, Drenthe\, 8381 BX\, Nederland
CATEGORIES:Begeleiding,Orgel
ATTACH;FMTTYPE=image/jpeg:https://www.jaapdekok.nl/wp-content/uploads/2016/07/kerk-vledder.jpg
END:VEVENT
BEGIN:VEVENT
DTSTART;TZID=UTC:20161113T191500
DTEND;TZID=UTC:20161113T203000
DTSTAMP:20260419T200134
CREATED:20160701T175518Z
LAST-MODIFIED:20161026T054250Z
UID:13302-1479064500-1479069000@www.jaapdekok.nl
SUMMARY:Projectkoor 'Excelsior' : Psalmenproject
DESCRIPTION:
URL:https://www.jaapdekok.nl/evenement/kruiskerk-diever-maaltijddienst/
CATEGORIES:Begeleiding,Orgel,Piano
END:VEVENT
BEGIN:VEVENT
DTSTART;TZID=UTC:20160815T150000
DTEND;TZID=UTC:20160815T153000
DTSTAMP:20260419T200134
CREATED:20160719T072009Z
LAST-MODIFIED:20160809T054755Z
UID:13320-1471273200-1471275000@www.jaapdekok.nl
SUMMARY:Orgelconcert Hervormde Kerk Diever
DESCRIPTION:Om 15.00 en 16.00 zal Jaap een concertje geven van 2 keer een half uur op het prachtige ‘van Oeckelen’ orgel (1845). Hierbij zal hij een gevariërd programma spelen. De concertjes vinden plaats tijdens de zomeravondmarkt in Diever. Toegang is gratis. Iedereen van harte welkom!
URL:https://www.jaapdekok.nl/evenement/orgelconcert-hervormde-kerk-diever/
LOCATION:Hervormde kerk Diever\, Hoofdstraat 45\, Diever\, Drenthe\, 7981 AD\, Nederland
CATEGORIES:Concert,Orgel
ATTACH;FMTTYPE=image/jpeg:https://www.jaapdekok.nl/wp-content/uploads/2015/11/orgel-hervormde-kerk-diever-e1453559334292.jpg
END:VEVENT
BEGIN:VEVENT
DTSTART;TZID=UTC:20160808T150000
DTEND;TZID=UTC:20160808T153000
DTSTAMP:20260419T200134
CREATED:20160609T161648Z
LAST-MODIFIED:20160719T070919Z
UID:13273-1470668400-1470670200@www.jaapdekok.nl
SUMMARY:Orgelconcert Kruiskerk Diever
DESCRIPTION:Om 15.00 en 16.00 zal Jaap een concertje geven van 2 keer een half uur. Hierbij zal hij een gevariërd programma spelen. De concertjes vinden plaats tijdens de zomeravondmarkt in Diever. Toegang is gratis. Iedereen van harte welkom!
URL:https://www.jaapdekok.nl/evenement/orgelconcert-kruiskerk-diever/
LOCATION:Kruiskerk Diever\, Diever
CATEGORIES:Concert,Orgel
ATTACH;FMTTYPE=image/jpeg:https://www.jaapdekok.nl/wp-content/uploads/2016/01/nijsse-orgel-diever.jpg
END:VEVENT
BEGIN:VEVENT
DTSTART;TZID=UTC:20160627T103000
DTEND;TZID=UTC:20160627T170000
DTSTAMP:20260419T200134
CREATED:20160607T101502Z
LAST-MODIFIED:20160607T101502Z
UID:13269-1467023400-1467046800@www.jaapdekok.nl
SUMMARY:Masterclass Paolo Crivellaro
DESCRIPTION:
URL:https://www.jaapdekok.nl/evenement/masterclass-paolo-crivellaro/
LOCATION:Martinikerk Groningen\, Martinikerkhof 3\, Groningen\, Groningen\, 9712 JG\, Nederland
CATEGORIES:Orgel
ATTACH;FMTTYPE=image/jpeg:https://www.jaapdekok.nl/wp-content/uploads/2016/05/Martinikerk-Groningen.jpg
END:VEVENT
BEGIN:VEVENT
DTSTART;TZID=UTC:20160626T100000
DTEND;TZID=UTC:20160626T113000
DTSTAMP:20260419T200134
CREATED:20160118T184302Z
LAST-MODIFIED:20160123T132923Z
UID:12979-1466935200-1466940600@www.jaapdekok.nl
SUMMARY:CGK 'Excelsior' Leggeloo
DESCRIPTION:Vanmorgen verleent CGK ‘Excelsior’ haar medewerking aan de dienst te Leggeloo. Het koor en de dienst zal ik begeleiden op orgel en piano.
URL:https://www.jaapdekok.nl/evenement/kinderdienst-kruiskerk-diever/
LOCATION:de Eben Haëzer Kapel\, Leggeloo 32\, Leggeloo\, Drenthe\, 7991 PW\, Nederland
CATEGORIES:Begeleiding,Orgel,Piano
ATTACH;FMTTYPE=image/jpeg:https://www.jaapdekok.nl/wp-content/uploads/2015/11/Leggeloo-Eben_Haëzerkapel_1916.jpg
END:VEVENT
BEGIN:VEVENT
DTSTART;TZID=UTC:20160505T153000
DTEND;TZID=UTC:20160505T162000
DTSTAMP:20260419T200134
CREATED:20160412T165101Z
LAST-MODIFIED:20160430T151906Z
UID:13225-1462462200-1462465200@www.jaapdekok.nl
SUMMARY:Orgelconcert Hoogeveen
DESCRIPTION:Vanmiddag mag ik een orgelconcert verzorgen in de ‘Oosterkerk’ te Hoogeveen. In deze kerk is tevens een expositie van schilderijen te bezichten. Deze expositie vindt plaats i.v.m. het ‘Feest van de Geest’. \nIk zal in ieder geval de volgende stukken spelen: \n\nFuga in g mineur – BWV 578                                       J.S. Bach\nDe toekomst van de Heer is daar                                  Johan van Dommele\nPartita: Sei gegrüsset\, Jesu gütig – BWV 768               J.S. Bach\nPsalm 150                                                                    Toon Hagen\n\n  \nHet orgel van de Oosterkerk in Hoogeveen \nHet ontwerp en het geleverde materiaal  van het orgel in de Oosterkerk is van de van orgelbouwer G.A.C. de Graaf uit Amsterdam\, die ook  het orgel van de Hoofdstraatkerk heeft gebouwd.\nHet orgel in deze kerk is echter in 1973 gemonteerd door de Duitse firma Oberlinger. Deze wilde zijn naamplaatje niet op het orgel plaatsen\, met als gevolg dat het orgel een van de zeer weinige orgels zonder aanduiding van de bouwer is. \nDe kas heeft een modern ontwerp\, waarbij de pijpen van het borstwerk in een aparte kas boven de speeltafel staan opgesteld. Het orgel heeft 20 registers\, verdeeld over Hoofdwerk\, Borstwerk en Pedaal. Het staat opgesteld aan de linker zijkant\, vóór in de kerkzaal.
URL:https://www.jaapdekok.nl/evenement/orgelconcert-hoogeveen/
LOCATION:Oosterkerk Hoogeveen\, Leeuweriklaan 35\, Hoogeveen\, Drenthe\, 7905 CA\, Nederland
CATEGORIES:Concert,Orgel
ATTACH;FMTTYPE=image/jpeg:https://www.jaapdekok.nl/wp-content/uploads/2016/04/orgel-oosterkerk-hoogeveen.jpg
END:VEVENT
BEGIN:VEVENT
DTSTART;TZID=UTC:20160320T191500
DTEND;TZID=UTC:20160320T203000
DTSTAMP:20260419T200134
CREATED:20151116T142548Z
LAST-MODIFIED:20160307T140600Z
UID:12257-1458501300-1458505800@www.jaapdekok.nl
SUMMARY:Oratorium 'de Kruisiging' Dwingeloo
DESCRIPTION:Op deze avond voert Christelijk Gemengd Koor ‘Excelsior’ met projectleden ‘de Kruisiging’ uit van John Stainer. Dit ontroerende oratorium vertelt het lijdensverhaal van Jezus vanaf de hof van Gethsemané tot aan het Zijn dood aan het kruis. Het laatste lied uit dit oratorium is een danklied\, omdat de Heer voor onze zonden aan het kruis gestorven is. \nArtistieke leiding: Jan Willem van Holst (Wittelte) \nTenor: Anne-Jaap Soldaat (Anjum) \nBas: Jaap Kramer (Urk) \nHoorniste: Elmira Geerts (Ruinerwold) \nOrganist: Jaap de Kok (Diever)
URL:https://www.jaapdekok.nl/evenement/oratorium-de-kruisiging-van-john-stainer-te-dwingeloo/
LOCATION:Dwingeloo\, Brug-Es kerk\, Bruges 26\, Dwingeloo\, Drenthe\, 7991 CE\, Nederland
CATEGORIES:Begeleiding,Orgel
END:VEVENT
END:VCALENDAR