BEGIN:VCALENDAR
VERSION:2.0
PRODID:-//Jaap de Kok - ECPv6.2.8.1//NONSGML v1.0//EN
CALSCALE:GREGORIAN
METHOD:PUBLISH
X-WR-CALNAME:Jaap de Kok
X-ORIGINAL-URL:https://www.jaapdekok.nl
X-WR-CALDESC:Evenementen voor Jaap de Kok
REFRESH-INTERVAL;VALUE=DURATION:PT1H
X-Robots-Tag:noindex
X-PUBLISHED-TTL:PT1H
BEGIN:VTIMEZONE
TZID:Europe/Amsterdam
BEGIN:DAYLIGHT
TZOFFSETFROM:+0100
TZOFFSETTO:+0200
TZNAME:CEST
DTSTART:20200329T010000
END:DAYLIGHT
BEGIN:STANDARD
TZOFFSETFROM:+0200
TZOFFSETTO:+0100
TZNAME:CET
DTSTART:20201025T010000
END:STANDARD
BEGIN:DAYLIGHT
TZOFFSETFROM:+0100
TZOFFSETTO:+0200
TZNAME:CEST
DTSTART:20210328T010000
END:DAYLIGHT
BEGIN:STANDARD
TZOFFSETFROM:+0200
TZOFFSETTO:+0100
TZNAME:CET
DTSTART:20211031T010000
END:STANDARD
TZID:UTC
BEGIN:STANDARD
TZOFFSETFROM:+0000
TZOFFSETTO:+0000
TZNAME:UTC
DTSTART:20150101T000000
END:STANDARD
END:VTIMEZONE
BEGIN:VEVENT
DTSTART;TZID=Europe/Amsterdam:20210221T093000
DTEND;TZID=Europe/Amsterdam:20210221T103000
DTSTAMP:20260421T213740
CREATED:20210218T231345Z
LAST-MODIFIED:20210218T231345Z
UID:14509-1613899800-1613903400@www.jaapdekok.nl
SUMMARY:Martinikerk Groningen
DESCRIPTION:Vanochtend gaat ds. O.C. Kerssen voor. Theo Pleizier is liturg. Tijdens de dienst vindt het Heilige Avondmaal plaats. Stef Tuinstra bespeelt het orgel en Jaap is voorzanger.
URL:https://www.jaapdekok.nl/evenement/martinikerk-groningen-3/
LOCATION:Martinikerk Groningen\, Martinikerkhof 3\, Groningen\, Groningen\, 9712 JG\, Nederland
CATEGORIES:Bariton,Zang
ATTACH;FMTTYPE=image/jpeg:https://www.jaapdekok.nl/wp-content/uploads/2018/10/1.Martini-orgel.1.jpg
END:VEVENT
BEGIN:VEVENT
DTSTART;TZID=Europe/Amsterdam:20210207T100000
DTEND;TZID=Europe/Amsterdam:20210207T110000
DTSTAMP:20260421T213740
CREATED:20210103T100600Z
LAST-MODIFIED:20210103T100600Z
UID:14481-1612692000-1612695600@www.jaapdekok.nl
SUMMARY:Martinikerk Franeker
DESCRIPTION:Vanmorgen is Jaap de Kok de voorzanger in de Martinikerk te Franeker\, de kerk waar Omrop Fryslan in 2020 diensten uitzond tijdens de lockdown.
URL:https://www.jaapdekok.nl/evenement/martinikerk-franeker/
LOCATION:Martinikerk Franeker\, Breedeplaats 2\, Franeker\, Friesland\, 8801 KA\, Nederland
CATEGORIES:Bariton,Zang
ATTACH;FMTTYPE=image/png:https://www.jaapdekok.nl/wp-content/uploads/2020/04/Afbeelding4.png
END:VEVENT
BEGIN:VEVENT
DTSTART;TZID=Europe/Amsterdam:20201220T100000
DTEND;TZID=Europe/Amsterdam:20201220T110000
DTSTAMP:20260421T213740
CREATED:20201212T153028Z
LAST-MODIFIED:20201212T153028Z
UID:14471-1608458400-1608462000@www.jaapdekok.nl
SUMMARY:Martinikerk Franeker: omroep Friesland
DESCRIPTION:Vanmorgen mag ik de zang verzorgen tijdens de omroep Friesland dienst die wordt uitgezonden vanuit de Martinikerk te Franeker. Organist is Jochem Schuurman.
URL:https://www.jaapdekok.nl/evenement/martinikerk-franeker-omroep-friesland/
LOCATION:Martinikerk Franeker\, Breedeplaats 2\, Franeker\, Friesland\, 8801 KA\, Nederland
CATEGORIES:Bariton,Zang
ATTACH;FMTTYPE=image/jpeg:https://www.jaapdekok.nl/wp-content/uploads/2020/04/Afbeelding5.jpg
END:VEVENT
BEGIN:VEVENT
DTSTART;TZID=Europe/Amsterdam:20200926T200000
DTEND;TZID=Europe/Amsterdam:20200926T210000
DTSTAMP:20260421T213740
CREATED:20200816T182657Z
LAST-MODIFIED:20200816T182829Z
UID:14459-1601150400-1601154000@www.jaapdekok.nl
SUMMARY:Concert Martinikerk Franeker
DESCRIPTION:Vanavond wordt er een concert gegeven in de Martinikerk te Franeker. Met orgelsolo en begeleiding door Jochem Schuurman en zang door sopraan Christy Luth en bariton Jaap de Kok.
URL:https://www.jaapdekok.nl/evenement/martinikerk-franeker-zangsolist/
LOCATION:Martinikerk Franeker\, Breedeplaats 2\, Franeker\, Friesland\, 8801 KA\, Nederland
CATEGORIES:Bariton,Zang
ATTACH;FMTTYPE=image/png:https://www.jaapdekok.nl/wp-content/uploads/2020/04/Afbeelding4.png
END:VEVENT
BEGIN:VEVENT
DTSTART;TZID=Europe/Amsterdam:20200719T100000
DTEND;TZID=Europe/Amsterdam:20200719T110000
DTSTAMP:20260421T213740
CREATED:20200716T222956Z
LAST-MODIFIED:20200716T223145Z
UID:14408-1595152800-1595156400@www.jaapdekok.nl
SUMMARY:livestream kerkdienst Franeker Martinikerk
DESCRIPTION:Vandaag zing ik de samenzang tijdens de livestream kerkdienst te Franeker. Te volgen via het Youtube kanaal van Martinikerk Franeker. Organist is Jochem Schuurman.
URL:https://www.jaapdekok.nl/evenement/livestream-kerkdienst-franeker-martinikerk/
LOCATION:Martinikerk Franeker\, Breedeplaats 2\, Franeker\, Friesland\, 8801 KA\, Nederland
CATEGORIES:Bariton,Concert,Zang
ATTACH;FMTTYPE=image/png:https://www.jaapdekok.nl/wp-content/uploads/2020/04/Afbeelding4.png
END:VEVENT
BEGIN:VEVENT
DTSTART;TZID=Europe/Amsterdam:20200408T190000
DTEND;TZID=Europe/Amsterdam:20200408T200000
DTSTAMP:20260421T213740
CREATED:20200308T091319Z
LAST-MODIFIED:20200330T075227Z
UID:14347-1586372400-1586376000@www.jaapdekok.nl
SUMMARY:The crucifixion - J. Stainer
DESCRIPTION:– afgelast wegens corona – \nVanavond voert concertkoor Gloria Deo ’the crucifixion’ uit van J. Stainer. \nDirigent: Jeroen Helder \nOrganist: Jochem Schuurman \nTenor: Twan van der Wolde \nBariton: Jaap de Kok
URL:https://www.jaapdekok.nl/evenement/the-crucifixion-j-stainer/
LOCATION:Friesland
CATEGORIES:Bariton,Concert
ATTACH;FMTTYPE=image/jpeg:https://www.jaapdekok.nl/wp-content/uploads/2019/02/Agricola-consort-23-1.jpg
END:VEVENT
BEGIN:VEVENT
DTSTART;TZID=Europe/Amsterdam:20200405T100000
DTEND;TZID=Europe/Amsterdam:20200405T110000
DTSTAMP:20260421T213740
CREATED:20200330T075643Z
LAST-MODIFIED:20200330T075643Z
UID:14360-1586080800-1586084400@www.jaapdekok.nl
SUMMARY:Thomaskerk Amsterdam
DESCRIPTION:Vanmorgen zing ik mee tijdens de liveuitzending van de kerkdienst in de Thomaskerk in Amsterdam.
URL:https://www.jaapdekok.nl/evenement/thomaskerk-amsterdam/
LOCATION:Friesland
CATEGORIES:Bariton,Zang
ATTACH;FMTTYPE=image/jpeg:https://www.jaapdekok.nl/wp-content/uploads/2019/02/Agricola-consort-24-e1585554987962.jpg
END:VEVENT
BEGIN:VEVENT
DTSTART;TZID=UTC:20200221T200000
DTEND;TZID=UTC:20200221T210000
DTSTAMP:20260421T213740
CREATED:20200218T100302Z
LAST-MODIFIED:20200218T100302Z
UID:14325-1582315200-1582318800@www.jaapdekok.nl
SUMMARY:huisconcert Vinkhuizen
DESCRIPTION:Vanavond geven Johanna Bart\, Wietse Ouwejan en ikzelf een huisconcert op het kabinetorgel van Roelof Kuik te Vinkhuizen.
URL:https://www.jaapdekok.nl/evenement/huisconcert-vinkhuizen/
LOCATION:Friesland
CATEGORIES:Concert,Orgel,Zang
ATTACH;FMTTYPE=image/jpeg:https://www.jaapdekok.nl/wp-content/uploads/2020/02/huisorgel-roelof-kuik.jpg
END:VEVENT
BEGIN:VEVENT
DTSTART;TZID=UTC:20151115T190000
DTEND;TZID=UTC:20151115T201500
DTSTAMP:20260421T213740
CREATED:20151116T132231Z
LAST-MODIFIED:20151120T195013Z
UID:12244-1447614000-1447618500@www.jaapdekok.nl
SUMMARY:Avonddienst Hoogeveen
DESCRIPTION:Deze avond van Lofprijzing en Bemoediging zal ik begeleiden met het orgel\, piano en zang. Tijdens deze dienst zal er gelegenheid zijn voor persoonlijke voorbede.
URL:https://www.jaapdekok.nl/evenement/avonddienst-hoogeveen/
LOCATION:de Goede Herderkerk\, Middenweg 14\, Hoogeveen\, Drenthe\, 7906 LL\, Nederland
CATEGORIES:Begeleiding,Orgel,Piano,Zang
END:VEVENT
END:VCALENDAR