BEGIN:VCALENDAR
VERSION:2.0
PRODID:-//Jaap de Kok - ECPv6.2.8.1//NONSGML v1.0//EN
CALSCALE:GREGORIAN
METHOD:PUBLISH
X-WR-CALNAME:Jaap de Kok
X-ORIGINAL-URL:https://www.jaapdekok.nl
X-WR-CALDESC:Evenementen voor Jaap de Kok
REFRESH-INTERVAL;VALUE=DURATION:PT1H
X-Robots-Tag:noindex
X-PUBLISHED-TTL:PT1H
BEGIN:VTIMEZONE
TZID:Europe/Amsterdam
BEGIN:DAYLIGHT
TZOFFSETFROM:+0100
TZOFFSETTO:+0200
TZNAME:CEST
DTSTART:20200329T010000
END:DAYLIGHT
BEGIN:STANDARD
TZOFFSETFROM:+0200
TZOFFSETTO:+0100
TZNAME:CET
DTSTART:20201025T010000
END:STANDARD
BEGIN:DAYLIGHT
TZOFFSETFROM:+0100
TZOFFSETTO:+0200
TZNAME:CEST
DTSTART:20210328T010000
END:DAYLIGHT
BEGIN:STANDARD
TZOFFSETFROM:+0200
TZOFFSETTO:+0100
TZNAME:CET
DTSTART:20211031T010000
END:STANDARD
TZID:UTC
BEGIN:STANDARD
TZOFFSETFROM:+0000
TZOFFSETTO:+0000
TZNAME:UTC
DTSTART:20200101T000000
END:STANDARD
END:VTIMEZONE
BEGIN:VEVENT
DTSTART;TZID=Europe/Amsterdam:20210714T153000
DTEND;TZID=Europe/Amsterdam:20210714T163000
DTSTAMP:20260420T031225
CREATED:20210701T170654Z
LAST-MODIFIED:20210701T170906Z
UID:14542-1626276600-1626280200@www.jaapdekok.nl
SUMMARY:‘Tot Rust’ - Pronkejwailtrio
DESCRIPTION:Vandaag geven we ons eerste concert met het Pronkjewailtrio. Het trio bestaat uit Marijke (mezzosopraan)\, Marit (klarinet) en Jaap (piano). We hebben elkaar ontmoet tijdens onze studententijd aan het Prins Claus Conservatorium. Dankzij steun van het Fonds Podiumkunsten kunnen we dit concert gratis aanbieden. Reserveren is wel verplicht en kan via pronkjewailtrio@gmail.com \nVan Harte Welkom!
URL:https://www.jaapdekok.nl/evenement/tot-rust-pronkejwailtrio/
LOCATION:Buitenplaats Hoogkerk\, Hoendiep 232\, Groningen\, Groningen\, 9745EG\, Nederland
CATEGORIES:Begeleiding,Piano
ATTACH;FMTTYPE=image/jpeg:https://www.jaapdekok.nl/wp-content/uploads/2016/01/Jaap-de-Kok.jpg
END:VEVENT
BEGIN:VEVENT
DTSTART;TZID=Europe/Amsterdam:20210708T120000
DTEND;TZID=Europe/Amsterdam:20210708T123000
DTSTAMP:20260420T031225
CREATED:20210706T121442Z
LAST-MODIFIED:20210706T121442Z
UID:14557-1625745600-1625747400@www.jaapdekok.nl
SUMMARY:Concert St. Jan Gouda
DESCRIPTION:Vandaag geef ik samen met Wietse Ouwejan om 12:00 een concert in de St. Jan te Gouda. \nEr zal zowel orgelquatre-mains klinken als orgel en zang. Van harte welkom!
URL:https://www.jaapdekok.nl/evenement/concert-st-jan-gouda-2/
LOCATION:St. Jan Gouda\, achter de kerk 16\, Gouda\, Zuid-Holland\, 2801 JX\, Nederland
CATEGORIES:Bariton,Concert,Orgel,Zang
ATTACH;FMTTYPE=image/jpeg:https://www.jaapdekok.nl/wp-content/uploads/2017/12/Speeltafel-St.-Jan-Gouda.jpg
END:VEVENT
BEGIN:VEVENT
DTSTART;TZID=Europe/Amsterdam:20210425T100000
DTEND;TZID=Europe/Amsterdam:20210425T110000
DTSTAMP:20260420T031225
CREATED:20210315T093418Z
LAST-MODIFIED:20210315T093418Z
UID:14531-1619344800-1619348400@www.jaapdekok.nl
SUMMARY:Noen - Grote Kerk Leeuwarden
DESCRIPTION:De dienst wordt uitgezonden via het YouTube kanaal van ‘de Jacobijner Leeuwarden’. \nOrganist: Gerwin Hoekstra \nVoorzanger: Jaap de Kok
URL:https://www.jaapdekok.nl/evenement/noen-grote-kerk-leeuwarden/
LOCATION:Grote Kerk Leeuwarden\, Jacobijnerkerkhof 95\, Leeuwarden\, Friesland\, 8911EN\, Nederland
CATEGORIES:Bariton,Zang
ATTACH;FMTTYPE=image/jpeg:https://www.jaapdekok.nl/wp-content/uploads/2019/02/Agricola-consort-34.jpg
END:VEVENT
BEGIN:VEVENT
DTSTART;TZID=Europe/Amsterdam:20210404T093000
DTEND;TZID=Europe/Amsterdam:20210404T110000
DTSTAMP:20260420T031225
CREATED:20210315T093648Z
LAST-MODIFIED:20210315T093919Z
UID:14533-1617528600-1617534000@www.jaapdekok.nl
SUMMARY:Pasen - Martinikerk Groningen
DESCRIPTION:Tijdens de ochtenddienst vieren we de opstanding van Jezus Christus uit de dood. \nVoorganger: ds. P. Versloot \nOrganist: Stef Tuinstra \nViolist: Irma Verweij \nVoorzang: Lieuwe Medema\, Jaap de Kok
URL:https://www.jaapdekok.nl/evenement/pasen-martinikerk-groningen/
LOCATION:Martinikerk Groningen\, Martinikerkhof 3\, Groningen\, Groningen\, 9712 JG\, Nederland
CATEGORIES:Bariton,Zang
ATTACH;FMTTYPE=image/jpeg:https://www.jaapdekok.nl/wp-content/uploads/2018/01/hoogkoor-martnikerk.jpg
END:VEVENT
BEGIN:VEVENT
DTSTART;TZID=Europe/Amsterdam:20210403T213000
DTEND;TZID=Europe/Amsterdam:20210403T223000
DTSTAMP:20260420T031225
CREATED:20210315T093028Z
LAST-MODIFIED:20210315T093028Z
UID:14528-1617485400-1617489000@www.jaapdekok.nl
SUMMARY:Stille Zaterdag - Paaswake - Grote Kerk Leeuwarden
DESCRIPTION:De dienst wordt uitgezonden via het YouTube kanaal van ‘de Jacobijner Leeuwarden’. \nOrganist: Gerwin Hoekstra \nVoorzanger: Jaap de Kok
URL:https://www.jaapdekok.nl/evenement/stille-zaterdag-paaswake-grote-kerk-leeuwarden/
LOCATION:Grote Kerk Leeuwarden\, Jacobijnerkerkhof 95\, Leeuwarden\, Friesland\, 8911EN\, Nederland
CATEGORIES:Bariton,Zang
ATTACH;FMTTYPE=image/jpeg:https://www.jaapdekok.nl/wp-content/uploads/2017/09/36236677840_9d2280d1f6_o.jpg
END:VEVENT
BEGIN:VEVENT
DTSTART;TZID=Europe/Amsterdam:20210403T210000
DTEND;TZID=Europe/Amsterdam:20210403T220000
DTSTAMP:20260420T031225
CREATED:20210331T220026Z
LAST-MODIFIED:20210331T220313Z
UID:14539-1617483600-1617487200@www.jaapdekok.nl
SUMMARY:Paaswake Catharinakerk Roden
DESCRIPTION:Om 21.00 wordt er live een kerkdienst uitgezonden vanuit de Catharinakerk te Roden. Erwin Wiersinga bespeelt het orgel en ik verzorg de voorzang.
URL:https://www.jaapdekok.nl/evenement/paaswake-catharinakerk-roden/
LOCATION:Catharinakerk Roden\, Nederland
CATEGORIES:Bariton,Zang
ATTACH;FMTTYPE=image/jpeg:https://www.jaapdekok.nl/wp-content/uploads/2017/08/IMG_9935-e1502739281663.jpg
END:VEVENT
BEGIN:VEVENT
DTSTART;TZID=Europe/Amsterdam:20210402T193000
DTEND;TZID=Europe/Amsterdam:20210402T203000
DTSTAMP:20260420T031225
CREATED:20210315T092824Z
LAST-MODIFIED:20210315T093057Z
UID:14526-1617391800-1617395400@www.jaapdekok.nl
SUMMARY:Goede Vrijdag - Martinikerk Franeker
DESCRIPTION:De dienst wordt live uitgezonden via het YouTube kanaal van Martinikerk Franeker. \nVoorganger: Sytze Ypma \nOrganist: Jochem Schuurman \nVoorzang: Jaap de Kok
URL:https://www.jaapdekok.nl/evenement/goede-vrijdag-martinikerk-franeker/
LOCATION:Martinikerk Franeker\, Breedeplaats 2\, Franeker\, Friesland\, 8801 KA\, Nederland
CATEGORIES:Bariton,Zang
ATTACH;FMTTYPE=image/jpeg:https://www.jaapdekok.nl/wp-content/uploads/2018/11/martinikerk-franeker-orgel.jpg
END:VEVENT
BEGIN:VEVENT
DTSTART;TZID=Europe/Amsterdam:20210402T190000
DTEND;TZID=Europe/Amsterdam:20210402T200000
DTSTAMP:20260420T031225
CREATED:20210315T092648Z
LAST-MODIFIED:20210315T093132Z
UID:14524-1617390000-1617393600@www.jaapdekok.nl
SUMMARY:Goede Vrijdag - Grote Kerk Leeuwarden
DESCRIPTION:De dienst wordt uitgezonden via het YouTube kanaal van ‘de Jacobijner Leeuwarden’. \nOrganist: Gerwin Hoekstra \nVoorzanger: Jaap de Kok
URL:https://www.jaapdekok.nl/evenement/goede-vrijdag-grote-kerk-leeuwarden/
LOCATION:Grote Kerk Leeuwarden\, Jacobijnerkerkhof 95\, Leeuwarden\, Friesland\, 8911EN\, Nederland
CATEGORIES:Bariton,Zang
ATTACH;FMTTYPE=image/jpeg:https://www.jaapdekok.nl/wp-content/uploads/2017/09/35798223854_67e05cf9cc_o.jpg
END:VEVENT
BEGIN:VEVENT
DTSTART;TZID=Europe/Amsterdam:20210402T190000
DTEND;TZID=Europe/Amsterdam:20210402T200000
DTSTAMP:20260420T031225
CREATED:20210315T092534Z
LAST-MODIFIED:20210315T102300Z
UID:14522-1617390000-1617393600@www.jaapdekok.nl
SUMMARY:Witte donderdag - Grote Kerk Leeuwarden
DESCRIPTION:De dienst wordt uitgezonden via het YouTube kanaal van ‘de Jacobijner Leeuwarden’. \nOrganist: Gerwin Hoekstra \nVoorzanger: Jaap de Kok
URL:https://www.jaapdekok.nl/evenement/witte-donderdag-grote-kerk-leeuwarden/
LOCATION:Grote Kerk Leeuwarden\, Jacobijnerkerkhof 95\, Leeuwarden\, Friesland\, 8911EN\, Nederland
CATEGORIES:Bariton,Zang
ATTACH;FMTTYPE=image/jpeg:https://www.jaapdekok.nl/wp-content/uploads/2017/09/36586488636_b7cd1c1c9a_o.jpg
END:VEVENT
BEGIN:VEVENT
DTSTART;TZID=Europe/Amsterdam:20210328T100000
DTEND;TZID=Europe/Amsterdam:20210328T110000
DTSTAMP:20260420T031225
CREATED:20210218T232354Z
LAST-MODIFIED:20210218T232354Z
UID:14518-1616925600-1616929200@www.jaapdekok.nl
SUMMARY:Grote- of Jacobijnerkerk Leeuwarden
DESCRIPTION:Tijdens de noen gaat ds. A. van Ligten voor. Het Müller orgel wordt bespeeld door Gerwin Hoekstra. Jaap de Kok verzorgt de voorzang.
URL:https://www.jaapdekok.nl/evenement/grote-of-jacobijnerkerk-leeuwarden-4/
LOCATION:Grote Kerk Leeuwarden\, Jacobijnerkerkhof 95\, Leeuwarden\, Friesland\, 8911EN\, Nederland
CATEGORIES:Bariton,Zang
ATTACH;FMTTYPE=image/jpeg:https://www.jaapdekok.nl/wp-content/uploads/2017/09/36236677840_9d2280d1f6_o.jpg
END:VEVENT
BEGIN:VEVENT
DTSTART;TZID=Europe/Amsterdam:20210314T100000
DTEND;TZID=Europe/Amsterdam:20210314T110000
DTSTAMP:20260420T031225
CREATED:20210103T100703Z
LAST-MODIFIED:20210103T100703Z
UID:14483-1615716000-1615719600@www.jaapdekok.nl
SUMMARY:Martinikerk Franeker
DESCRIPTION:Vanmorgen is Jaap de Kok de voorzanger in de Martinikerk te Franeker\, de kerk waar Omrop Fryslan in 2020 diensten uitzond tijdens de lockdown.
URL:https://www.jaapdekok.nl/evenement/martinikerk-franeker-2/
LOCATION:Martinikerk Franeker\, Breedeplaats 2\, Franeker\, Friesland\, 8801 KA\, Nederland
CATEGORIES:Bariton,Zang
ATTACH;FMTTYPE=image/png:https://www.jaapdekok.nl/wp-content/uploads/2020/04/Afbeelding4.png
END:VEVENT
BEGIN:VEVENT
DTSTART;TZID=UTC:20210307T190000
DTEND;TZID=UTC:20210307T200000
DTSTAMP:20260420T031225
CREATED:20200130T130005Z
LAST-MODIFIED:20210109T103916Z
UID:14309-1615143600-1615147200@www.jaapdekok.nl
SUMMARY:Cantatedienst Grote Kerk Leeuwarden - N. Bruhns
DESCRIPTION:Tijdens de cantatedienst zal de cantate ‘de Profundis clamavi’ op muziek van N. Bruhns worden uitgevoerd.
URL:https://www.jaapdekok.nl/evenement/cantatedienst-grote-kerk-leeuwarden-bruhns/
LOCATION:Grote Kerk Leeuwarden\, Jacobijnerkerkhof 95\, Leeuwarden\, Friesland\, 8911EN\, Nederland
CATEGORIES:Zang
ATTACH;FMTTYPE=image/jpeg:https://www.jaapdekok.nl/wp-content/uploads/2017/09/36586488636_b7cd1c1c9a_o.jpg
END:VEVENT
BEGIN:VEVENT
DTSTART;TZID=Europe/Amsterdam:20210307T100000
DTEND;TZID=Europe/Amsterdam:20210307T110000
DTSTAMP:20260420T031225
CREATED:20210218T232124Z
LAST-MODIFIED:20210218T232124Z
UID:14515-1615111200-1615114800@www.jaapdekok.nl
SUMMARY:Grote- of Jacobijnerkerk Leeuwarden
DESCRIPTION:Tijdens deze eredienst gaat ds. A.M. Roest voor. Het Müller orgel wordt bespeeld door Gerwin Hoekstra. Jaap de Kok verzorgt de voorzang
URL:https://www.jaapdekok.nl/evenement/grote-of-jacobijnerkerk-leeuwarden-3/
LOCATION:Grote Kerk Leeuwarden\, Jacobijnerkerkhof 95\, Leeuwarden\, Friesland\, 8911EN\, Nederland
CATEGORIES:Bariton,Zang
ATTACH;FMTTYPE=image/jpeg:https://www.jaapdekok.nl/wp-content/uploads/2018/06/DSC00529-e1529782508755.jpg
END:VEVENT
BEGIN:VEVENT
DTSTART;TZID=Europe/Amsterdam:20210228T150000
DTEND;TZID=Europe/Amsterdam:20210228T160000
DTSTAMP:20260420T031225
CREATED:20210218T231918Z
LAST-MODIFIED:20210218T231918Z
UID:14513-1614524400-1614528000@www.jaapdekok.nl
SUMMARY:Grote- of Jacobijnerkerk Leeuwarden
DESCRIPTION:Tijdens deze bevestigingsdienst gaan ds. de Vries en ds. J.J. Stegeman voor. Het orgel wordt bespeeld door Gerwin Hoekstra en de voorzang wordt verzorgd door Jaap de Kok.
URL:https://www.jaapdekok.nl/evenement/grote-of-jacobijnerkerk-leeuwarden-2/
LOCATION:Grote Kerk Leeuwarden\, Jacobijnerkerkhof 95\, Leeuwarden\, Friesland\, 8911EN\, Nederland
CATEGORIES:Bariton,Zang
ATTACH;FMTTYPE=image/jpeg:https://www.jaapdekok.nl/wp-content/uploads/2020/12/421A8074.jpg
END:VEVENT
BEGIN:VEVENT
DTSTART;TZID=Europe/Amsterdam:20210228T100000
DTEND;TZID=Europe/Amsterdam:20210228T110000
DTSTAMP:20260420T031225
CREATED:20210218T231714Z
LAST-MODIFIED:20210218T232537Z
UID:14511-1614506400-1614510000@www.jaapdekok.nl
SUMMARY:Grote- of Jacobijnerkerk Leeuwarden
DESCRIPTION:Vanochtend gaat ds. J.J.H. Hoving voor tijdens de noen. Het orgel wordt bespeeld door Gerwin Hoekstra en de zang wordt verzorgd door Jaap de Kok
URL:https://www.jaapdekok.nl/evenement/grote-of-jacobijnerkerk-leeuwarden/
LOCATION:Grote Kerk Leeuwarden\, Jacobijnerkerkhof 95\, Leeuwarden\, Friesland\, 8911EN\, Nederland
CATEGORIES:Bariton,Zang
ATTACH;FMTTYPE=image/png:https://www.jaapdekok.nl/wp-content/uploads/2020/04/Afbeelding4.png
END:VEVENT
BEGIN:VEVENT
DTSTART;TZID=Europe/Amsterdam:20210221T093000
DTEND;TZID=Europe/Amsterdam:20210221T103000
DTSTAMP:20260420T031225
CREATED:20210218T231345Z
LAST-MODIFIED:20210218T231345Z
UID:14509-1613899800-1613903400@www.jaapdekok.nl
SUMMARY:Martinikerk Groningen
DESCRIPTION:Vanochtend gaat ds. O.C. Kerssen voor. Theo Pleizier is liturg. Tijdens de dienst vindt het Heilige Avondmaal plaats. Stef Tuinstra bespeelt het orgel en Jaap is voorzanger.
URL:https://www.jaapdekok.nl/evenement/martinikerk-groningen-3/
LOCATION:Martinikerk Groningen\, Martinikerkhof 3\, Groningen\, Groningen\, 9712 JG\, Nederland
CATEGORIES:Bariton,Zang
ATTACH;FMTTYPE=image/jpeg:https://www.jaapdekok.nl/wp-content/uploads/2018/10/1.Martini-orgel.1.jpg
END:VEVENT
BEGIN:VEVENT
DTSTART;TZID=Europe/Amsterdam:20210207T100000
DTEND;TZID=Europe/Amsterdam:20210207T110000
DTSTAMP:20260420T031225
CREATED:20210103T100600Z
LAST-MODIFIED:20210103T100600Z
UID:14481-1612692000-1612695600@www.jaapdekok.nl
SUMMARY:Martinikerk Franeker
DESCRIPTION:Vanmorgen is Jaap de Kok de voorzanger in de Martinikerk te Franeker\, de kerk waar Omrop Fryslan in 2020 diensten uitzond tijdens de lockdown.
URL:https://www.jaapdekok.nl/evenement/martinikerk-franeker/
LOCATION:Martinikerk Franeker\, Breedeplaats 2\, Franeker\, Friesland\, 8801 KA\, Nederland
CATEGORIES:Bariton,Zang
ATTACH;FMTTYPE=image/png:https://www.jaapdekok.nl/wp-content/uploads/2020/04/Afbeelding4.png
END:VEVENT
BEGIN:VEVENT
DTSTART;TZID=Europe/Amsterdam:20201227T170000
DTEND;TZID=Europe/Amsterdam:20201227T180000
DTSTAMP:20260420T031225
CREATED:20201212T153901Z
LAST-MODIFIED:20201212T204732Z
UID:14474-1609088400-1609092000@www.jaapdekok.nl
SUMMARY:Schoonheid met een Ziel: Kerstviering Martinikerk
DESCRIPTION:Het thema van deze dienst is: De dag van de winnende zon. Veel verschillende gemeenteleden zullen een bijdrage leveren aan deze dienst. Het Agricola Consort verleent haar medewerking. ds. Versloot is voorganger
URL:https://www.jaapdekok.nl/evenement/schoonheid-met-een-ziel-kerstviering-martinikerk/
LOCATION:Martinikerk Groningen\, Martinikerkhof 3\, Groningen\, Groningen\, 9712 JG\, Nederland
CATEGORIES:Dirigent
ATTACH;FMTTYPE=image/jpeg:https://www.jaapdekok.nl/wp-content/uploads/2019/02/Agricola-consort-30.jpg
END:VEVENT
BEGIN:VEVENT
DTSTART;TZID=UTC:20201224T200000
DTEND;TZID=UTC:20201224T213000
DTSTAMP:20260420T031225
CREATED:20191207T193507Z
LAST-MODIFIED:20201212T204523Z
UID:14288-1608840000-1608845400@www.jaapdekok.nl
SUMMARY:Kerstnachtdienst Martinikerk Groningen - Agricolaconsort
DESCRIPTION:Tijdens de kerstnachtdienst verleent het Agricolaconsort haar medewerking. Deze dienst wordt online uitgezonden via kerkdienstgemist.nl \n 
URL:https://www.jaapdekok.nl/evenement/kerstnachtdienst-martinikerk-groningen-ggm/
LOCATION:Martinikerk Groningen\, Martinikerkhof 3\, Groningen\, Groningen\, 9712 JG\, Nederland
CATEGORIES:Dirigent
ATTACH;FMTTYPE=image/jpeg:https://www.jaapdekok.nl/wp-content/uploads/2019/02/Agricola-consort-30-1.jpg
END:VEVENT
BEGIN:VEVENT
DTSTART;TZID=Europe/Amsterdam:20201220T100000
DTEND;TZID=Europe/Amsterdam:20201220T110000
DTSTAMP:20260420T031225
CREATED:20201212T153028Z
LAST-MODIFIED:20201212T153028Z
UID:14471-1608458400-1608462000@www.jaapdekok.nl
SUMMARY:Martinikerk Franeker: omroep Friesland
DESCRIPTION:Vanmorgen mag ik de zang verzorgen tijdens de omroep Friesland dienst die wordt uitgezonden vanuit de Martinikerk te Franeker. Organist is Jochem Schuurman.
URL:https://www.jaapdekok.nl/evenement/martinikerk-franeker-omroep-friesland/
LOCATION:Martinikerk Franeker\, Breedeplaats 2\, Franeker\, Friesland\, 8801 KA\, Nederland
CATEGORIES:Bariton,Zang
ATTACH;FMTTYPE=image/jpeg:https://www.jaapdekok.nl/wp-content/uploads/2020/04/Afbeelding5.jpg
END:VEVENT
BEGIN:VEVENT
DTSTART;TZID=Europe/Amsterdam:20201206T190000
DTEND;TZID=Europe/Amsterdam:20201206T200000
DTSTAMP:20260420T031225
CREATED:20200809T151435Z
LAST-MODIFIED:20200809T151639Z
UID:14454-1607281200-1607284800@www.jaapdekok.nl
SUMMARY:Cantatedienst Grote kerk te Leeuwarden
DESCRIPTION:BWV 61 Nun komm\, der heiden Heiland wordt gezongen tijdens de cantatedienst in de Grote kerk te Leeuwarden door het Agricola Consort.
URL:https://www.jaapdekok.nl/evenement/cantatedienst-grote-kerk-te-leeuwarden/
LOCATION:Grote Kerk Leeuwarden\, Jacobijnerkerkhof 95\, Leeuwarden\, Friesland\, 8911EN\, Nederland
CATEGORIES:Dirigent
ATTACH;FMTTYPE=image/jpeg:https://www.jaapdekok.nl/wp-content/uploads/2019/02/Agricola-consort-30-1.jpg
END:VEVENT
BEGIN:VEVENT
DTSTART;TZID=Europe/Amsterdam:20200926T200000
DTEND;TZID=Europe/Amsterdam:20200926T210000
DTSTAMP:20260420T031225
CREATED:20200816T182657Z
LAST-MODIFIED:20200816T182829Z
UID:14459-1601150400-1601154000@www.jaapdekok.nl
SUMMARY:Concert Martinikerk Franeker
DESCRIPTION:Vanavond wordt er een concert gegeven in de Martinikerk te Franeker. Met orgelsolo en begeleiding door Jochem Schuurman en zang door sopraan Christy Luth en bariton Jaap de Kok.
URL:https://www.jaapdekok.nl/evenement/martinikerk-franeker-zangsolist/
LOCATION:Martinikerk Franeker\, Breedeplaats 2\, Franeker\, Friesland\, 8801 KA\, Nederland
CATEGORIES:Bariton,Zang
ATTACH;FMTTYPE=image/png:https://www.jaapdekok.nl/wp-content/uploads/2020/04/Afbeelding4.png
END:VEVENT
BEGIN:VEVENT
DTSTART;TZID=UTC:20200814T124500
DTEND;TZID=UTC:20200814T133000
DTSTAMP:20260420T031225
CREATED:20200218T102758Z
LAST-MODIFIED:20200717T114635Z
UID:14339-1597409100-1597411800@www.jaapdekok.nl
SUMMARY:Lunchconcert Martinikerk Groningen
DESCRIPTION:J.S. Bach (1685-1750) – Preludium in e (BWV 548) \nR. Schumann (1810-1856) – Canon in As-majeur \nM. Kluge (1928-1971) –  uit ‘Fantasie in drei rhythmen’: II – bewegt \nJ.S. Bach – O Mensch\, bewein dein Sünde Gross (BWV 622) \nJ. Alain (1911-1940) – Deuxième Fantaisie \nM. Weckmann (1616-1674) – Komm\, heiliger Geist\, Herre Gott \nJ.S. Bach – Fuga in e (BWV 548)
URL:https://www.jaapdekok.nl/evenement/lunchconcert-martinikerk-groningen/
LOCATION:Martinikerk Groningen\, Martinikerkhof 3\, Groningen\, Groningen\, 9712 JG\, Nederland
CATEGORIES:Concert,Orgel
ATTACH;FMTTYPE=image/jpeg:https://www.jaapdekok.nl/wp-content/uploads/2018/10/1.Martini-orgel.1.jpg
END:VEVENT
BEGIN:VEVENT
DTSTART;TZID=UTC:20200812T200000
DTEND;TZID=UTC:20200812T210000
DTSTAMP:20260420T031225
CREATED:20200108T092834Z
LAST-MODIFIED:20200809T151150Z
UID:14303-1597262400-1597266000@www.jaapdekok.nl
SUMMARY:Orgelconcert Grote Kerk Elburg
DESCRIPTION:Music for a while – H. Purcell (1659-1695)\nCanon in As – R. Schumann (1810-1856)\nSonate IV in F\, Wq 70/3 – C.P.E. Bach (1714-1788) – Allegro/Largo/Allegretto\nPrelude\, Fuge et Variation – C. Franck (1822-1890)\nIntermezzo – K. van Eersel (*1944)\nSonate VI: Vater unser im himmelreich – F. Mendelssohn (1809-1847)\nFuga in b klein (BWV 579) – J.S. Bach (1685-1750)\nMerck toch hoe sterck – C. Kee (1900-1997)
URL:https://www.jaapdekok.nl/evenement/orgelconcert-grote-kerk-elburg/
CATEGORIES:Concert,Orgel
ATTACH;FMTTYPE=image/jpeg:https://www.jaapdekok.nl/wp-content/uploads/2016/01/IMG_9528_small.jpg
END:VEVENT
BEGIN:VEVENT
DTSTART;TZID=Europe/Amsterdam:20200806T120000
DTEND;TZID=Europe/Amsterdam:20200806T124500
DTSTAMP:20260420T031225
CREATED:20200709T220536Z
LAST-MODIFIED:20200709T220536Z
UID:14406-1596715200-1596717900@www.jaapdekok.nl
SUMMARY:Orgelconcert Grote- of Mariakerk te Meppel
DESCRIPTION:Dit lunchconcert is vrij toegankelijk.
URL:https://www.jaapdekok.nl/evenement/orgelconcert-grote-of-mariakerk-te-meppel/
LOCATION:Grote kerk Meppel\, Kerkplein 4\, Meppel\, Drenthe\, 7941 BE\, Nederland
CATEGORIES:Concert,Orgel
ATTACH;FMTTYPE=image/jpeg:https://www.jaapdekok.nl/wp-content/uploads/2017/03/Mariakerk-Meppel-orgel.jpg
END:VEVENT
BEGIN:VEVENT
DTSTART;TZID=Europe/Amsterdam:20200719T100000
DTEND;TZID=Europe/Amsterdam:20200719T110000
DTSTAMP:20260420T031225
CREATED:20200716T222956Z
LAST-MODIFIED:20200716T223145Z
UID:14408-1595152800-1595156400@www.jaapdekok.nl
SUMMARY:livestream kerkdienst Franeker Martinikerk
DESCRIPTION:Vandaag zing ik de samenzang tijdens de livestream kerkdienst te Franeker. Te volgen via het Youtube kanaal van Martinikerk Franeker. Organist is Jochem Schuurman.
URL:https://www.jaapdekok.nl/evenement/livestream-kerkdienst-franeker-martinikerk/
LOCATION:Martinikerk Franeker\, Breedeplaats 2\, Franeker\, Friesland\, 8801 KA\, Nederland
CATEGORIES:Bariton,Concert,Zang
ATTACH;FMTTYPE=image/png:https://www.jaapdekok.nl/wp-content/uploads/2020/04/Afbeelding4.png
END:VEVENT
BEGIN:VEVENT
DTSTART;TZID=UTC:20200718T133000
DTEND;TZID=UTC:20200718T140000
DTSTAMP:20260420T031225
CREATED:20200218T102135Z
LAST-MODIFIED:20200708T113307Z
UID:14337-1595079000-1595080800@www.jaapdekok.nl
SUMMARY:St. Jozefkathedraal Groningen
DESCRIPTION:reserveren via: pelstergasthuis@hotmail.com \n\nR. Schumann (1810-1856) – Canon in As-majeur\nJ. Alain (1911-1940) – Deuxième Fantaisie\nF. Mendelssohn (1809-1847) – Sonate VI in d: Vater unser im himmelreich\n\n\nAndante sostenuto\nAllegro molto\nFuga\nFinale
URL:https://www.jaapdekok.nl/evenement/st-jozefkathedraal-groningen/
LOCATION:St.- Jozefkathedraal Groningen\, Radesingel 4\, Groningen\, 9711 EJ\, Nederland
CATEGORIES:Concert,Orgel
ATTACH;FMTTYPE=image/jpeg:https://www.jaapdekok.nl/wp-content/uploads/2019/02/st.-Jozefkathedraal-Groningen.jpg
END:VEVENT
BEGIN:VEVENT
DTSTART;TZID=Europe/Amsterdam:20200715T200000
DTEND;TZID=Europe/Amsterdam:20200715T210000
DTSTAMP:20260420T031225
CREATED:20200708T120031Z
LAST-MODIFIED:20200708T122149Z
UID:14400-1594843200-1594846800@www.jaapdekok.nl
SUMMARY:Zomer Concert Oudega: Orgel/Trompet/Hoorn
DESCRIPTION:Vandaag geven Yvonne Galama (trompet)\, Jan Krol (hoorn) en Jaap de Kok een zomerconcert in de Ankertsjerke te Oudega. Hartelijk welkom! Reserveren via: yvonne@muzyk.frl \nVOL = VOL
URL:https://www.jaapdekok.nl/evenement/zomer-concert-oudega-orgel-trompet-hoorn/
LOCATION:Ankertsjerke Oudega\, Pastorijstrjitte\, Oudega\, Friesland\, 8614 AB
CATEGORIES:Concert,Orgel
ATTACH;FMTTYPE=image/jpeg:https://www.jaapdekok.nl/wp-content/uploads/2020/02/Jaap-bespeelt-het-Timpe-orgel-in-de-Nieuwe-Kerk-te-Groningen.jpg
END:VEVENT
BEGIN:VEVENT
DTSTART;TZID=UTC:20200711T133000
DTEND;TZID=UTC:20200711T140000
DTSTAMP:20260420T031225
CREATED:20200218T101821Z
LAST-MODIFIED:20200708T113056Z
UID:14334-1594474200-1594476000@www.jaapdekok.nl
SUMMARY:Concert Pelstergasthuis Groningen
DESCRIPTION:Vanmiddag mag ik een orgelconcert geven op het prachtige Schnitger orgel in het Pelstergasthuis. Een zeer fraai instrument! reserveren via: pelstergasthuis@hotmail.com \n\nM. Weckmann (1616-1674) – Komm\, heiliger Geist\, Herre Gott\nG. Frescobaldi (1583-1643) – Toccata secundi toni (bk. II/02)\nH. Scheidemann (1596-1663) – Canzona in G\nW. Byrd (1543-1623) – Fantasie in a
URL:https://www.jaapdekok.nl/evenement/concert-pelstergasthuis-groningen/
LOCATION:Pelstergasthuiskerk\, Pelsterstraat 39\, Groningen\, Groningen\, 9711 KH\, Nederland
CATEGORIES:Concert,Orgel
ATTACH;FMTTYPE=image/jpeg:https://www.jaapdekok.nl/wp-content/uploads/2020/02/pelstergasthuiskerk-orgel.jpg
END:VEVENT
BEGIN:VEVENT
DTSTART;TZID=UTC:20200703T150000
DTEND;TZID=UTC:20200703T160000
DTSTAMP:20260420T031225
CREATED:20200218T100454Z
LAST-MODIFIED:20200617T205645Z
UID:14329-1593788400-1593792000@www.jaapdekok.nl
SUMMARY:Bachelor Eindexamen Orgel
DESCRIPTION:Koororgel \nG. Frescobaldi (1583-1643) – Toccata seconda (bk. II/02) \nHoofdorgel \nJ.S. Bach (1685-1750) – Preludium in e (BWV 548) \nR. Schumann (1810-1856) – Canon in As-majeur \nM. Kluge (1928-1971) – uit ‘Fantasie in drei rhythmen’: II – bewegt \nJ.S. Bach – O Mensch\, bewein dein Sünde Gross (BWV 622) \nJ. Alain (1911-1940) – Deuxième Fantaisie \nM. Weckmann (1616-1674) – Komm\, heiliger Geist\, Herre Gott \nJ.S. Bach – Fuga in e (BWV 548)
URL:https://www.jaapdekok.nl/evenement/bachelor-eindexamen-orgel/
LOCATION:Martinikerk Groningen\, Martinikerkhof 3\, Groningen\, Groningen\, 9712 JG\, Nederland
CATEGORIES:Concert,Orgel
ATTACH;FMTTYPE=image/jpeg:https://www.jaapdekok.nl/wp-content/uploads/2020/02/Jaap-bespeelt-het-Timpe-orgel-in-de-Nieuwe-Kerk-te-Groningen.jpg
END:VEVENT
END:VCALENDAR