BEGIN:VCALENDAR
VERSION:2.0
PRODID:-//Jaap de Kok - ECPv6.2.8.1//NONSGML v1.0//EN
CALSCALE:GREGORIAN
METHOD:PUBLISH
X-WR-CALNAME:Jaap de Kok
X-ORIGINAL-URL:https://www.jaapdekok.nl
X-WR-CALDESC:Evenementen voor Jaap de Kok
REFRESH-INTERVAL;VALUE=DURATION:PT1H
X-Robots-Tag:noindex
X-PUBLISHED-TTL:PT1H
BEGIN:VTIMEZONE
TZID:Europe/Amsterdam
BEGIN:DAYLIGHT
TZOFFSETFROM:+0100
TZOFFSETTO:+0200
TZNAME:CEST
DTSTART:20210328T010000
END:DAYLIGHT
BEGIN:STANDARD
TZOFFSETFROM:+0200
TZOFFSETTO:+0100
TZNAME:CET
DTSTART:20211031T010000
END:STANDARD
END:VTIMEZONE
BEGIN:VEVENT
DTSTART;TZID=Europe/Amsterdam:20210905T190000
DTEND;TZID=Europe/Amsterdam:20210905T200000
DTSTAMP:20260424T015715
CREATED:20210706T122020Z
LAST-MODIFIED:20210706T122020Z
UID:14566-1630868400-1630872000@www.jaapdekok.nl
SUMMARY:Cantatedienst Leeuwarden
DESCRIPTION:Tijdens deze dienst zingt het Agricola Consort o.l.v. Jaap de Kok cantate BWV 33: Allein zu dir\, Herr\, Jesu Christ
URL:https://www.jaapdekok.nl/evenement/cantatedienst-leeuwarden/
LOCATION:Grote Kerk Leeuwarden\, Jacobijnerkerkhof 95\, Leeuwarden\, Friesland\, 8911EN\, Nederland
CATEGORIES:Dirigent
ATTACH;FMTTYPE=image/jpeg:https://www.jaapdekok.nl/wp-content/uploads/2020/12/421A8074.jpg
END:VEVENT
BEGIN:VEVENT
DTSTART;TZID=Europe/Amsterdam:20210910T200000
DTEND;TZID=Europe/Amsterdam:20210910T223000
DTSTAMP:20260424T015715
CREATED:20210826T085840Z
LAST-MODIFIED:20210826T085905Z
UID:14604-1631304000-1631313000@www.jaapdekok.nl
SUMMARY:Wadopera: Peter Grimes
DESCRIPTION:Peter Grimes\, een opera gecomponeerd door Benjamin Britten. Een geweldige opera die in de maand september uitgevoerd gaat worden op het strand bij Paessens-Moddergat. Het is een groot plezier om mee te zingen in het koor van deze opera.
URL:https://www.jaapdekok.nl/evenement/wadopera-peter-grimes/
LOCATION:Groningen
CATEGORIES:Zang
END:VEVENT
BEGIN:VEVENT
DTSTART;TZID=Europe/Amsterdam:20210911T200000
DTEND;TZID=Europe/Amsterdam:20210911T223000
DTSTAMP:20260424T015715
CREATED:20210826T085954Z
LAST-MODIFIED:20210826T085954Z
UID:14606-1631390400-1631399400@www.jaapdekok.nl
SUMMARY:Wadopera: Peter Grimes
DESCRIPTION:Peter Grimes\, een opera gecomponeerd door Benjamin Britten. Een geweldige opera die in de maand september uitgevoerd gaat worden op het strand bij Paessens-Moddergat. Het is een groot plezier om mee te zingen in het koor van deze opera.
URL:https://www.jaapdekok.nl/evenement/wadopera-peter-grimes-2/
LOCATION:Groningen
END:VEVENT
BEGIN:VEVENT
DTSTART;TZID=Europe/Amsterdam:20210912T170000
DTEND;TZID=Europe/Amsterdam:20210912T180000
DTSTAMP:20260424T015715
CREATED:20210826T122929Z
LAST-MODIFIED:20210826T122929Z
UID:14624-1631466000-1631469600@www.jaapdekok.nl
SUMMARY:Psalmenvesper Martinikerk Groningen
DESCRIPTION:Tijdens de Psalmenvesper staat Psalm 42 centraal. Het Agricola Consort zingt o.a. het Magnificat en Nunc Dimittis in F van Dyson en Loving Shepherd van P. Ledger. Ook klinkt het bekende ‘Dear Lord and Father of mankind van Parry. \nDs. Rijken uit Utrecht gaat voor tijdens de vesper.
URL:https://www.jaapdekok.nl/evenement/psalmenvesper-martinikerk-groningen-3/
LOCATION:Martinikerk Groningen\, Martinikerkhof 3\, Groningen\, Groningen\, 9712 JG\, Nederland
CATEGORIES:Dirigent
ATTACH;FMTTYPE=image/jpeg:https://www.jaapdekok.nl/wp-content/uploads/2019/02/Agricola-consort-6.jpg
END:VEVENT
BEGIN:VEVENT
DTSTART;TZID=Europe/Amsterdam:20210914T200000
DTEND;TZID=Europe/Amsterdam:20210914T223000
DTSTAMP:20260424T015715
CREATED:20210826T090034Z
LAST-MODIFIED:20210826T090034Z
UID:14609-1631649600-1631658600@www.jaapdekok.nl
SUMMARY:Wadopera: Peter Grimes
DESCRIPTION:Peter Grimes\, een opera gecomponeerd door Benjamin Britten. Een geweldige opera die in de maand september uitgevoerd gaat worden op het strand bij Paessens-Moddergat. Het is een groot plezier om mee te zingen in het koor van deze opera.
URL:https://www.jaapdekok.nl/evenement/wadopera-peter-grimes-3/
LOCATION:Groningen
CATEGORIES:Zang
END:VEVENT
BEGIN:VEVENT
DTSTART;TZID=Europe/Amsterdam:20210917T200000
DTEND;TZID=Europe/Amsterdam:20210917T223000
DTSTAMP:20260424T015715
CREATED:20210826T090114Z
LAST-MODIFIED:20210826T090114Z
UID:14612-1631908800-1631917800@www.jaapdekok.nl
SUMMARY:Wadopera: Peter Grimes
DESCRIPTION:Peter Grimes\, een opera gecomponeerd door Benjamin Britten. Een geweldige opera die in de maand september uitgevoerd gaat worden op het strand bij Paessens-Moddergat. Het is een groot plezier om mee te zingen in het koor van deze opera.
URL:https://www.jaapdekok.nl/evenement/wadopera-peter-grimes-4/
LOCATION:Groningen
CATEGORIES:Zang
END:VEVENT
BEGIN:VEVENT
DTSTART;TZID=Europe/Amsterdam:20210921T200000
DTEND;TZID=Europe/Amsterdam:20210921T223000
DTSTAMP:20260424T015715
CREATED:20210826T090157Z
LAST-MODIFIED:20210826T090157Z
UID:14614-1632254400-1632263400@www.jaapdekok.nl
SUMMARY:Wadopera: Peter Grimes
DESCRIPTION:Peter Grimes\, een opera gecomponeerd door Benjamin Britten. Een geweldige opera die in de maand september uitgevoerd gaat worden op het strand bij Paessens-Moddergat. Het is een groot plezier om mee te zingen in het koor van deze opera.
URL:https://www.jaapdekok.nl/evenement/wadopera-peter-grimes-5/
LOCATION:Groningen
CATEGORIES:Zang
END:VEVENT
BEGIN:VEVENT
DTSTART;TZID=Europe/Amsterdam:20210922T200000
DTEND;TZID=Europe/Amsterdam:20210922T223000
DTSTAMP:20260424T015715
CREATED:20210826T090232Z
LAST-MODIFIED:20210826T090232Z
UID:14617-1632340800-1632349800@www.jaapdekok.nl
SUMMARY:Wadopera: Peter Grimes
DESCRIPTION:Peter Grimes\, een opera gecomponeerd door Benjamin Britten. Een geweldige opera die in de maand september uitgevoerd gaat worden op het strand bij Paessens-Moddergat. Het is een groot plezier om mee te zingen in het koor van deze opera.
URL:https://www.jaapdekok.nl/evenement/wadopera-peter-grimes-6/
LOCATION:Groningen
CATEGORIES:Zang
END:VEVENT
BEGIN:VEVENT
DTSTART;TZID=Europe/Amsterdam:20210924T200000
DTEND;TZID=Europe/Amsterdam:20210924T223000
DTSTAMP:20260424T015715
CREATED:20210826T090301Z
LAST-MODIFIED:20210826T090301Z
UID:14619-1632513600-1632522600@www.jaapdekok.nl
SUMMARY:Wadopera: Peter Grimes
DESCRIPTION:Peter Grimes\, een opera gecomponeerd door Benjamin Britten. Een geweldige opera die in de maand september uitgevoerd gaat worden op het strand bij Paessens-Moddergat. Het is een groot plezier om mee te zingen in het koor van deze opera.
URL:https://www.jaapdekok.nl/evenement/wadopera-peter-grimes-7/
LOCATION:Groningen
CATEGORIES:Zang
END:VEVENT
BEGIN:VEVENT
DTSTART;TZID=Europe/Amsterdam:20210925T200000
DTEND;TZID=Europe/Amsterdam:20210925T223000
DTSTAMP:20260424T015715
CREATED:20210918T171715Z
LAST-MODIFIED:20210918T171715Z
UID:14627-1632600000-1632609000@www.jaapdekok.nl
SUMMARY:Wadopera Peter Grimes
DESCRIPTION:
URL:https://www.jaapdekok.nl/evenement/wadopera-peter-grimes-8/
LOCATION:Groningen
CATEGORIES:Zang
END:VEVENT
END:VCALENDAR