BEGIN:VCALENDAR
VERSION:2.0
PRODID:-//Jaap de Kok - ECPv6.2.8.1//NONSGML v1.0//EN
CALSCALE:GREGORIAN
METHOD:PUBLISH
X-WR-CALNAME:Jaap de Kok
X-ORIGINAL-URL:https://www.jaapdekok.nl
X-WR-CALDESC:Evenementen voor Jaap de Kok
REFRESH-INTERVAL;VALUE=DURATION:PT1H
X-Robots-Tag:noindex
X-PUBLISHED-TTL:PT1H
BEGIN:VTIMEZONE
TZID:Europe/Amsterdam
BEGIN:DAYLIGHT
TZOFFSETFROM:+0100
TZOFFSETTO:+0200
TZNAME:CEST
DTSTART:20210328T010000
END:DAYLIGHT
BEGIN:STANDARD
TZOFFSETFROM:+0200
TZOFFSETTO:+0100
TZNAME:CET
DTSTART:20211031T010000
END:STANDARD
END:VTIMEZONE
BEGIN:VEVENT
DTSTART;TZID=Europe/Amsterdam:20211205T093000
DTEND;TZID=Europe/Amsterdam:20211205T103000
DTSTAMP:20260423T215016
CREATED:20211203T123442Z
LAST-MODIFIED:20211203T123525Z
UID:14652-1638696600-1638700200@www.jaapdekok.nl
SUMMARY:Martinikerk Groningen - Agricola Consort
DESCRIPTION:Tijdens de dienst zingt het Agricola Consort o.l.v. Jaap de Kok ‘Nun komm der Heiden Heiland’ van Scheidt en Machet die Tore Weit van Hammerschmidt.
URL:https://www.jaapdekok.nl/evenement/martinikerk-groningen-agricola-consort/
LOCATION:Martinikerk Groningen\, Martinikerkhof 3\, Groningen\, Groningen\, 9712 JG\, Nederland
CATEGORIES:Dirigent
ATTACH;FMTTYPE=image/jpeg:https://www.jaapdekok.nl/wp-content/uploads/2019/02/Agricola-consort-30-1.jpg
END:VEVENT
BEGIN:VEVENT
DTSTART;TZID=Europe/Amsterdam:20211205T153000
DTEND;TZID=Europe/Amsterdam:20211205T163000
DTSTAMP:20260423T215016
CREATED:20210826T122657Z
LAST-MODIFIED:20211203T123251Z
UID:14621-1638718200-1638721800@www.jaapdekok.nl
SUMMARY:Cantatedienst Grote Kerk Leeuwarden
DESCRIPTION:Tijdens de cantatedienst zingt het Agricola Consort o.l.v. Jaap de Kok ‘Nun komm der Heiden Heiland’ van Scheidt en Machet die Tore Weit van Hammerschmidt.
URL:https://www.jaapdekok.nl/evenement/cantatedienst-grote-kerk-leeuwarden-4/
LOCATION:Grote Kerk Leeuwarden\, Jacobijnerkerkhof 95\, Leeuwarden\, Friesland\, 8911EN\, Nederland
CATEGORIES:Dirigent
ATTACH;FMTTYPE=image/jpeg:https://www.jaapdekok.nl/wp-content/uploads/2020/12/421A8074.jpg
END:VEVENT
BEGIN:VEVENT
DTSTART;TZID=Europe/Amsterdam:20211219T153000
DTEND;TZID=Europe/Amsterdam:20211219T170000
DTSTAMP:20260423T215016
CREATED:20211120T182420Z
LAST-MODIFIED:20211203T123214Z
UID:14643-1639927800-1639933200@www.jaapdekok.nl
SUMMARY:A festival of Lessons & Carols - Adventskerk Assen
DESCRIPTION:Vandaag vindt om 15:30 ‘A Festival of Lessons and Carols’ plaats in de Adventskerk te Assen in de vieringen reeks Musica Pro Deo. Het Asser Kamerkoor Arpeggio o.l.v. Jaap de Kok verleent medewerking. Wietse Meinardi is organist.
URL:https://www.jaapdekok.nl/evenement/a-festival-of-lessons-carols-adventskerk-assen/
LOCATION:Adventskerk Assen\, Lindelaan 49\, Assen\, Drenthe\, 9404KR\, Nederland
ATTACH;FMTTYPE=image/jpeg:https://www.jaapdekok.nl/wp-content/uploads/2017/09/36236677840_9d2280d1f6_o-1.jpg
END:VEVENT
BEGIN:VEVENT
DTSTART;TZID=Europe/Amsterdam:20211224T200000
DTEND;TZID=Europe/Amsterdam:20211224T210000
DTSTAMP:20260423T215016
CREATED:20210706T121739Z
LAST-MODIFIED:20210706T121739Z
UID:14562-1640376000-1640379600@www.jaapdekok.nl
SUMMARY:Kerstnachtdienst Martinikerk Groningen
DESCRIPTION:Vanavond zingt het Gereformeerd Groningen Mannenkoor tijdens de kerstnachtdienst in de Martinikerk te Groningen.
URL:https://www.jaapdekok.nl/evenement/kerstnachtdienst-martinikerk-groningen-2/
LOCATION:Martinikerk Groningen\, Martinikerkhof 3\, Groningen\, Groningen\, 9712 JG\, Nederland
CATEGORIES:Dirigent,Mannenkoor
ATTACH;FMTTYPE=image/jpeg:https://www.jaapdekok.nl/wp-content/uploads/2017/01/Martinikerk-Groningen-orgel.jpg
END:VEVENT
END:VCALENDAR