BEGIN:VCALENDAR
VERSION:2.0
PRODID:-//Jaap de Kok - ECPv6.2.8.1//NONSGML v1.0//EN
CALSCALE:GREGORIAN
METHOD:PUBLISH
X-WR-CALNAME:Jaap de Kok
X-ORIGINAL-URL:https://www.jaapdekok.nl
X-WR-CALDESC:Evenementen voor Jaap de Kok
REFRESH-INTERVAL;VALUE=DURATION:PT1H
X-Robots-Tag:noindex
X-PUBLISHED-TTL:PT1H
BEGIN:VTIMEZONE
TZID:Europe/Amsterdam
BEGIN:DAYLIGHT
TZOFFSETFROM:+0100
TZOFFSETTO:+0200
TZNAME:CEST
DTSTART:20220327T010000
END:DAYLIGHT
BEGIN:STANDARD
TZOFFSETFROM:+0200
TZOFFSETTO:+0100
TZNAME:CET
DTSTART:20221030T010000
END:STANDARD
END:VTIMEZONE
BEGIN:VEVENT
DTSTART;TZID=Europe/Amsterdam:20220605T190000
DTEND;TZID=Europe/Amsterdam:20220605T200000
DTSTAMP:20260423T130945
CREATED:20220204T154118Z
LAST-MODIFIED:20220204T154118Z
UID:14672-1654455600-1654459200@www.jaapdekok.nl
SUMMARY:Cantatedienst Grote kerk Leeuwarden: ‘Daran erkennen wir\, dass wir in Ihm bleiben’
DESCRIPTION:Vandaag voert het Agricola Consort o.l.v. Jaap de Kok de cantate: \nDaran erkennen wir\, dass wir in Ihm bleiben\nvan J. Kuhnau (1660-1772) uit tijdens de cantatedienst in de Grote kerk te Leeuwarden. \n 
URL:https://www.jaapdekok.nl/evenement/cantatedienst-grote-kerk-leeuwarden-daran-erkennen-wir-dass-wir-in-ihm-bleiben/
LOCATION:Grote Kerk Leeuwarden\, Jacobijnerkerkhof 95\, Leeuwarden\, Friesland\, 8911EN\, Nederland
CATEGORIES:Dirigent
ATTACH;FMTTYPE=image/jpeg:https://www.jaapdekok.nl/wp-content/uploads/2021/12/5F1BD1D9-F9F8-4FB2-B1F7-D5B820D98121.jpeg
END:VEVENT
BEGIN:VEVENT
DTSTART;TZID=Europe/Amsterdam:20220610T150000
DTEND;TZID=Europe/Amsterdam:20220610T163000
DTSTAMP:20260423T130945
CREATED:20220526T172502Z
LAST-MODIFIED:20220526T172502Z
UID:14742-1654873200-1654878600@www.jaapdekok.nl
SUMMARY:Trio Fiori Musicali - Middelstum
DESCRIPTION:Vandaag spelen we met het trio ‘Fiori Musicali’ tijdens de heropening van de Hippolytuskerk te Middelstum
URL:https://www.jaapdekok.nl/evenement/trio-fiori-musicali-middelstum/
LOCATION:Hippolytuskerk Middelstum\, Concordiaplein 1\, Middelstum\, Groningen\, 9991BB\, Nederland
CATEGORIES:Concert
ATTACH;FMTTYPE=image/jpeg:https://www.jaapdekok.nl/wp-content/uploads/2022/05/AB98CEC9-D5AC-47CA-98BD-60968901EFD5.jpeg
END:VEVENT
BEGIN:VEVENT
DTSTART;TZID=Europe/Amsterdam:20220619T190000
DTEND;TZID=Europe/Amsterdam:20220619T200000
DTSTAMP:20260423T130945
CREATED:20220601T220913Z
LAST-MODIFIED:20220601T221039Z
UID:14747-1655665200-1655668800@www.jaapdekok.nl
SUMMARY:Grote of St. Bavo te Haarlem - Evensong
DESCRIPTION:Vanavond val ik in voor Rintje te Wies als dirigent van het Roderjongenskoor. We zingen de evensong in de prachtige St. Bavo te Haarlem! Op het programma muziek van o.a. Reading\, Andriessen\, Goss en Brewer
URL:https://www.jaapdekok.nl/evenement/grote-of-st-bavo-te-haarlem-evensong/
LOCATION:Groningen
CATEGORIES:Dirigent
ATTACH;FMTTYPE=image/jpeg:https://www.jaapdekok.nl/wp-content/uploads/2017/09/36586488636_b7cd1c1c9a_o.jpg
END:VEVENT
END:VCALENDAR