BEGIN:VCALENDAR
VERSION:2.0
PRODID:-//Jaap de Kok - ECPv6.2.8.1//NONSGML v1.0//EN
CALSCALE:GREGORIAN
METHOD:PUBLISH
X-ORIGINAL-URL:https://www.jaapdekok.nl
X-WR-CALDESC:Evenementen voor Jaap de Kok
REFRESH-INTERVAL;VALUE=DURATION:PT1H
X-Robots-Tag:noindex
X-PUBLISHED-TTL:PT1H
BEGIN:VTIMEZONE
TZID:Europe/Amsterdam
BEGIN:DAYLIGHT
TZOFFSETFROM:+0100
TZOFFSETTO:+0200
TZNAME:CEST
DTSTART:20240331T010000
END:DAYLIGHT
BEGIN:STANDARD
TZOFFSETFROM:+0200
TZOFFSETTO:+0100
TZNAME:CET
DTSTART:20241027T010000
END:STANDARD
END:VTIMEZONE
BEGIN:VEVENT
DTSTART;TZID=Europe/Amsterdam:20240503T200000
DTEND;TZID=Europe/Amsterdam:20240503T210000
DTSTAMP:20260420T015912
CREATED:20240101T174050Z
LAST-MODIFIED:20240101T174110Z
UID:14944-1714766400-1714770000@www.jaapdekok.nl
SUMMARY:Requiem van G. Fauré
DESCRIPTION:Solist bij Requiem van G. Fauré uitgevoerd door Kamerkoor Tiraña o.l.v. Tymen-Jan Bronda. \n-locatie volgt-
URL:https://www.jaapdekok.nl/evenement/faure-requiem/
LOCATION:Groningen
ATTACH;FMTTYPE=image/jpeg:https://www.jaapdekok.nl/wp-content/uploads/2021/12/A093778A-8A1D-474D-81AC-9ED8C5BBA299.jpeg
END:VEVENT
BEGIN:VEVENT
DTSTART;TZID=Europe/Amsterdam:20240504T200000
DTEND;TZID=Europe/Amsterdam:20240504T210000
DTSTAMP:20260420T015912
CREATED:20240101T174216Z
LAST-MODIFIED:20240101T174319Z
UID:14947-1714852800-1714856400@www.jaapdekok.nl
SUMMARY:Requiem van G. Fauré
DESCRIPTION:Solist bij Requiem van G. Fauré uitgevoerd door Kamerkoor Tiraña o.l.v. Tymen-Jan Bronda. \n-locatie volgt- \n 
URL:https://www.jaapdekok.nl/evenement/requiem-van-g-faure/
LOCATION:Groningen
ATTACH;FMTTYPE=image/jpeg:https://www.jaapdekok.nl/wp-content/uploads/2024/01/IMG_2691.jpeg
END:VEVENT
BEGIN:VEVENT
DTSTART;TZID=Europe/Amsterdam:20240505T170000
DTEND;TZID=Europe/Amsterdam:20240505T180000
DTSTAMP:20260420T015912
CREATED:20240101T205436Z
LAST-MODIFIED:20240101T205436Z
UID:14952-1714928400-1714932000@www.jaapdekok.nl
SUMMARY:Cantatedienst Nieuwe Kerk Groningen
DESCRIPTION:Alles was ihr tut – Dietrich Buxtehude\nWas Gott tut\, das ist wohlgetan – Johann Pachelbel (1653 – 1706)\nAgricola Consort\, barokensemble o.l.v. Jaap de Kok \nVoorganger: ds. Dick Mak\nOrganist: Mannes Hofsink \nOp deze Bevrijdingsdag klinken twee feestelijke cantates. In de eerste cantate die klinkt\, ‘Alles was ihr tut’\, wisselt Buxtehude zuiver instrumentale delen in rap tempo af met koordelen en solopassages. De koraalcantate van Johann Pachelbel die volgt\, ‘Was Gott tut\, das ist wohlgetan’\, opent net als bij Buxtehude met een instrumentale sonata waarna de 6 verzen elk op een heel gevarieerde manier klinken. Waar vers 1 alleen door de sopranen wordt gezongen begeleidt door twee altviolen\, eindigt vers 6 met tutti koor en ensemble in feestelijke ritmes waarmee Pachelbel de vreugde van de boodschap van de tekst kracht bij zet: ‘so wird Gott mich ganz väterlich in seinen Armen halten; drum lass ich ihm nur walten’.
URL:https://www.jaapdekok.nl/evenement/cantatedienst-nieuwe-kerk-groningen-2/
LOCATION:Nieuwe Kerk Groningen\, Nieuwe kerkhof 1\, Groningen\, Groningen\, 9712PT\, Nederland
ATTACH;FMTTYPE=image/jpeg:https://www.jaapdekok.nl/wp-content/uploads/2023/11/DSC_1272.jpeg
END:VEVENT
BEGIN:VEVENT
DTSTART;TZID=Europe/Amsterdam:20240512T170000
DTEND;TZID=Europe/Amsterdam:20240512T180000
DTSTAMP:20260420T015912
CREATED:20240101T210721Z
LAST-MODIFIED:20240101T210721Z
UID:14968-1715533200-1715536800@www.jaapdekok.nl
SUMMARY:Evensong - psalm 70
DESCRIPTION:Psalmenvesper m.m.v. het Roder Jongenskoor
URL:https://www.jaapdekok.nl/evenement/evensong-psalm-70/
LOCATION:Martinikerk Groningen\, Martinikerkhof 3\, Groningen\, Groningen\, 9712 JG\, Nederland
ATTACH;FMTTYPE=image/jpeg:https://www.jaapdekok.nl/wp-content/uploads/2023/12/e1ec37f5-e046-4b93-8818-e6c71d813dde.jpeg
END:VEVENT
BEGIN:VEVENT
DTSTART;TZID=Europe/Amsterdam:20240522T193000
DTEND;TZID=Europe/Amsterdam:20240522T210000
DTSTAMP:20260420T015912
CREATED:20240511T074753Z
LAST-MODIFIED:20240511T074851Z
UID:14993-1716406200-1716411600@www.jaapdekok.nl
SUMMARY:Stuttgart Meets Groningen
DESCRIPTION:Tijdens dit grootse concert zullen de 22 jongens en 11 mannen van het Roder Jongenskoor samen met de 40 jongens en 20 mannen van het gerenommeerde Knabenchor uit Stuttgart\, Duitsland\, een concert verzorgen. Dit belooft voor zowel de jongens als het publiek in de stad Groningen een unieke ervaring te worden waarbij twee vooraanstaande jongenskoren samenwerken om een indrukwekkend programma ten gehore te brengen. Muziek zal klinken van Bach tot aan Bairstow en natuurlijk ontbreekt Bruckner niet want het is ten slotte Brucknerjaar. Een belevenis die je niet wilt missen!
URL:https://www.jaapdekok.nl/evenement/stuttgart-meets-groningen/
LOCATION:Akerk\, Akerkhof 2\, Groningen\, 9711 JB\, Nederland
ATTACH;FMTTYPE=image/jpeg:https://www.jaapdekok.nl/wp-content/uploads/2024/05/ebd94363-df81-4cc0-8b34-7d616d9e6d80.jpeg
END:VEVENT
BEGIN:VEVENT
DTSTART;TZID=Europe/Amsterdam:20240526T160000
DTEND;TZID=Europe/Amsterdam:20240526T170000
DTSTAMP:20260420T015912
CREATED:20240101T205607Z
LAST-MODIFIED:20240101T205607Z
UID:14954-1716739200-1716742800@www.jaapdekok.nl
SUMMARY:Evensong Adventskerk Assen
DESCRIPTION:m.m.v. het Agricola Consort
URL:https://www.jaapdekok.nl/evenement/evensong-adventskerk-assen/
LOCATION:Adventskerk Assen\, Lindelaan 49\, Assen\, Drenthe\, 9404KR\, Nederland
ATTACH;FMTTYPE=image/jpeg:https://www.jaapdekok.nl/wp-content/uploads/2022/06/4D3FAEED-07A7-4F41-935F-5D04E4EEB5F3.jpeg
END:VEVENT
END:VCALENDAR