BEGIN:VCALENDAR
VERSION:2.0
PRODID:-//Jaap de Kok - ECPv6.2.8.1//NONSGML v1.0//EN
CALSCALE:GREGORIAN
METHOD:PUBLISH
X-ORIGINAL-URL:https://www.jaapdekok.nl
X-WR-CALDESC:Evenementen voor Jaap de Kok
REFRESH-INTERVAL;VALUE=DURATION:PT1H
X-Robots-Tag:noindex
X-PUBLISHED-TTL:PT1H
BEGIN:VTIMEZONE
TZID:Europe/Amsterdam
BEGIN:DAYLIGHT
TZOFFSETFROM:+0100
TZOFFSETTO:+0200
TZNAME:CEST
DTSTART:20240331T010000
END:DAYLIGHT
BEGIN:STANDARD
TZOFFSETFROM:+0200
TZOFFSETTO:+0100
TZNAME:CET
DTSTART:20241027T010000
END:STANDARD
END:VTIMEZONE
BEGIN:VEVENT
DTSTART;TZID=Europe/Amsterdam:20240908T170000
DTEND;TZID=Europe/Amsterdam:20240908T180000
DTSTAMP:20260419T193708
CREATED:20240101T210840Z
LAST-MODIFIED:20240101T210840Z
UID:14970-1725814800-1725818400@www.jaapdekok.nl
SUMMARY:Evensong - psalm 72
DESCRIPTION:Psalmenvesper m.m.v. het Roder Jongenskoor
URL:https://www.jaapdekok.nl/evenement/evensong-psalm-72/
LOCATION:Martinikerk Groningen\, Martinikerkhof 3\, Groningen\, Groningen\, 9712 JG\, Nederland
END:VEVENT
BEGIN:VEVENT
DTSTART;TZID=Europe/Amsterdam:20240922T190000
DTEND;TZID=Europe/Amsterdam:20240922T200000
DTSTAMP:20260419T193708
CREATED:20240619T183206Z
LAST-MODIFIED:20240918T152601Z
UID:15006-1727031600-1727035200@www.jaapdekok.nl
SUMMARY:BWV 131 - Bach cantate koor Salland
DESCRIPTION:Solist in BWV 131 uitgevoerd door het Bach cantate  koor Salland & the Northern Consort o.l.v. Leendert Runia
URL:https://www.jaapdekok.nl/evenement/bwv-131-sallands-bachkoor/
LOCATION:hellendoorn
ATTACH;FMTTYPE=image/jpeg:https://www.jaapdekok.nl/wp-content/uploads/2023/11/161ae998-9cb8-4f54-afa0-14ca0cf7df74.jpeg
END:VEVENT
END:VCALENDAR