BEGIN:VCALENDAR
VERSION:2.0
PRODID:-//Jaap de Kok - ECPv6.2.8.1//NONSGML v1.0//EN
CALSCALE:GREGORIAN
METHOD:PUBLISH
X-WR-CALNAME:Jaap de Kok
X-ORIGINAL-URL:https://www.jaapdekok.nl
X-WR-CALDESC:Evenementen voor Jaap de Kok
REFRESH-INTERVAL;VALUE=DURATION:PT1H
X-Robots-Tag:noindex
X-PUBLISHED-TTL:PT1H
BEGIN:VTIMEZONE
TZID:Europe/Amsterdam
BEGIN:DAYLIGHT
TZOFFSETFROM:+0100
TZOFFSETTO:+0200
TZNAME:CEST
DTSTART:20240331T010000
END:DAYLIGHT
BEGIN:STANDARD
TZOFFSETFROM:+0200
TZOFFSETTO:+0100
TZNAME:CET
DTSTART:20241027T010000
END:STANDARD
END:VTIMEZONE
BEGIN:VEVENT
DTSTART;TZID=Europe/Amsterdam:20241005T200000
DTEND;TZID=Europe/Amsterdam:20241005T210000
DTSTAMP:20260419T180158
CREATED:20240918T152908Z
LAST-MODIFIED:20240918T152908Z
UID:15028-1728158400-1728162000@www.jaapdekok.nl
SUMMARY:Theatraal Liedrecital
DESCRIPTION:Wat krijg je als je anno 2024 twee heren van rond de 25 jaar bij elkaar zet\, die allebei in een domineesgezin zijn opgegroeid als jongste van drie (jongens)? Waar gaan die twee het over hebben? Voetbal\, auto’s\, bier\,  traditionele mannenonderwerpen? Of over geloof als dubbele dozo’s (dubbele domineeszonen)? Een ding is duidelijk. Jaap en Geert maken muziek. En graag zo goed mogelijk. Dan moet je soms streng zijn\, discipline hebben. Maar\, ze hebben ook meegekregen: nadenken over de betekenis achter wat je doet. Dat is een uitdaging. \n\n\nWaarom wordt muziek door zoveel mensen beluisterd en waarom maken wij muziek? In het programma ‘Kleine jongens worden groot’ graven Jaap en Geert met behulp van de muziek in hun kindertijd. Wat komt er op je af als je volwassen begint te worden\, wat verwacht de maatschappij van je als volwassene en hoe verhoud je je daar toe? \n\n\nMet muziek van Dvorak (Biblische Liedern) tot Quilter (5 Shakespeare songs\, op. 23)\, van Prokofiev tot Brahms zoeken ze naar antwoorden. Laat je meenemen!
URL:https://www.jaapdekok.nl/evenement/theatraal-liedrecital/
LOCATION:Nieuwe Kerk Groningen\, Nieuwe kerkhof 1\, Groningen\, Groningen\, 9712PT\, Nederland
ATTACH;FMTTYPE=image/jpeg:https://www.jaapdekok.nl/wp-content/uploads/2024/09/IMG_3349.jpeg
END:VEVENT
BEGIN:VEVENT
DTSTART;TZID=Europe/Amsterdam:20241006T190000
DTEND;TZID=Europe/Amsterdam:20241006T200000
DTSTAMP:20260419T180158
CREATED:20240101T205722Z
LAST-MODIFIED:20240918T153403Z
UID:14956-1728241200-1728244800@www.jaapdekok.nl
SUMMARY:Cantatedienst Grote kerk Leeuwarden
DESCRIPTION:BuxWV 41 Herzlich lieb hab ich Dich o Herr – m.m.v. het Agricola Consort & the Northern Consort
URL:https://www.jaapdekok.nl/evenement/cantatedienst-grote-kerk-leeuwarden-5/
LOCATION:Grote Kerk Leeuwarden\, Jacobijnerkerkhof 95\, Leeuwarden\, Friesland\, 8911EN\, Nederland
ATTACH;FMTTYPE=image/jpeg:https://www.jaapdekok.nl/wp-content/uploads/2020/12/421A8074.jpg
END:VEVENT
BEGIN:VEVENT
DTSTART;TZID=Europe/Amsterdam:20241012T200000
DTEND;TZID=Europe/Amsterdam:20241012T213000
DTSTAMP:20260419T180158
CREATED:20241009T204517Z
LAST-MODIFIED:20241009T204517Z
UID:15052-1728763200-1728768600@www.jaapdekok.nl
SUMMARY:De kleine Orgelmis - Martinikerk Groningen
DESCRIPTION:Op zaterdag 12 oktober vieren Leo van Doeselaar en Erwin Wiersinga hun 10-jarig titulair-organistschap van de Groningse Martinikerk. Hun concert\, samen een Projectkoor olv Jaap de Kok\, is ook de afsluiting van de reeks van 22 concerten in de afgelopen 10 jaar met alle orgelwerken van Johann Sebastian Bach op het grote orgel van de Martinikerk. Leo en Erwin zullen hun jubileumconcert afsluiten met dezelfde vierhandige en tweevoetige bewerking van de gebr. de Jong van het openingskoor van de cantate “Ein feste Burg” van Johann Sebastian Bach\, waarmee ze in 2014 hun eerste gezamenlijke concert afsloten. Daarvoor spelen ze de zg. “Kleine Orgelmis” met de korte manualiter koraalbewerkingen uit de ‘Dritter Clavieruebung’\, daaruit ook de vier Duetti en het monumentale Praeludium en fuga in Es BWV 552. De desbetreffende koralen zullen eveneens door het koor worden uitgevoerd\, met orgelbegeleiding in zettingen van Bach.
URL:https://www.jaapdekok.nl/evenement/de-kleine-orgelmis-martinikerk-groningen/
LOCATION:Martinikerk Groningen\, Martinikerkhof 3\, Groningen\, Groningen\, 9712 JG\, Nederland
END:VEVENT
BEGIN:VEVENT
DTSTART;TZID=Europe/Amsterdam:20241017T193000
DTEND;TZID=Europe/Amsterdam:20241017T210000
DTSTAMP:20260419T180158
CREATED:20240511T080459Z
LAST-MODIFIED:20240918T153121Z
UID:15003-1729193400-1729198800@www.jaapdekok.nl
SUMMARY:Duo concert RJK met Herning Kirkes Drengekor
DESCRIPTION:De Hippolytuskerk verheft zich als een kathedraal in het groene centrum van het Groningse dorp Middelstum. Hier kruist op donderdagavond 17 oktober het Roder Jongenskoor muzikaal de degens met het Deense Herning Kirkes Drengekor. Bij wijze van spreken uiteraard: al misstaat een toernooi niet in deze middeleeuwse ambiance\, het plezier van het samen musiceren staat voorop. De dirigenten Severin Korsgaard en Jaap de Kok zullen hun koren afwisselend\, maar ook gezamenlijk laten optreden met werken van o.a. Mendelssohn\, Grieg\, Stanford en Purcell. De begeleiding – met het monumentale Van Oeckelen-orgel – is in handen en voeten van de organisten Jesper Thimsen en Sander van Houten.
URL:https://www.jaapdekok.nl/evenement/duo-concert-rjk-met-herning-kirkes-drengekor/
LOCATION:Groningen
ATTACH;FMTTYPE=image/jpeg:https://www.jaapdekok.nl/wp-content/uploads/2024/05/IMG_3356.jpeg
END:VEVENT
BEGIN:VEVENT
DTSTART;TZID=Europe/Amsterdam:20241020T150000
DTEND;TZID=Europe/Amsterdam:20241020T160000
DTSTAMP:20260419T180158
CREATED:20231121T224736Z
LAST-MODIFIED:20231121T224736Z
UID:14906-1729436400-1729440000@www.jaapdekok.nl
SUMMARY:Evensong Grote kerk Wijk bij Duurstede
DESCRIPTION:Het Roder Jongenskoor zingt tijdens een evensong in de prachtige Grote Kerk van Wijk bij Duurstede. Organist is Sander van den Houten.
URL:https://www.jaapdekok.nl/evenement/evensong-grote-kerk-wijk-bij-duurstede/
LOCATION:Grote Kerk Wijk bij Duurstede\, Markt 22\, Wijk bij Duurstede\, 3961BC\, Nederland
CATEGORIES:Dirigent
ATTACH;FMTTYPE=image/jpeg:https://www.jaapdekok.nl/wp-content/uploads/2023/11/DSC0075.jpeg
END:VEVENT
BEGIN:VEVENT
DTSTART;TZID=Europe/Amsterdam:20241027T160000
DTEND;TZID=Europe/Amsterdam:20241027T170000
DTSTAMP:20260419T180158
CREATED:20240101T211006Z
LAST-MODIFIED:20240918T153948Z
UID:14972-1730044800-1730048400@www.jaapdekok.nl
SUMMARY:Evensong - Musica Pro Deo
DESCRIPTION:M.m.v. het Roderjongenskoor
URL:https://www.jaapdekok.nl/evenement/evensong-musica-pro-deo/
LOCATION:Adventskerk Assen\, Lindelaan 49\, Assen\, Drenthe\, 9404KR\, Nederland
ATTACH;FMTTYPE=image/jpeg:https://www.jaapdekok.nl/wp-content/uploads/2023/11/IMG_2372.jpeg
END:VEVENT
END:VCALENDAR